BEGIN:VCALENDAR
VERSION:2.0
PRODID:-//Suomen Lammasyhdistys - ECPv6.15.13.1//NONSGML v1.0//EN
CALSCALE:GREGORIAN
METHOD:PUBLISH
X-WR-CALNAME:Suomen Lammasyhdistys
X-ORIGINAL-URL:https://lammasyhdistys.fi
X-WR-CALDESC:Tapahtumat Suomen Lammasyhdistys
REFRESH-INTERVAL;VALUE=DURATION:PT1H
X-Robots-Tag:noindex
X-PUBLISHED-TTL:PT1H
BEGIN:VTIMEZONE
TZID:Europe/Helsinki
BEGIN:DAYLIGHT
TZOFFSETFROM:+0200
TZOFFSETTO:+0300
TZNAME:EEST
DTSTART:20220327T010000
END:DAYLIGHT
BEGIN:STANDARD
TZOFFSETFROM:+0300
TZOFFSETTO:+0200
TZNAME:EET
DTSTART:20221030T010000
END:STANDARD
BEGIN:DAYLIGHT
TZOFFSETFROM:+0200
TZOFFSETTO:+0300
TZNAME:EEST
DTSTART:20230326T010000
END:DAYLIGHT
BEGIN:STANDARD
TZOFFSETFROM:+0300
TZOFFSETTO:+0200
TZNAME:EET
DTSTART:20231029T010000
END:STANDARD
BEGIN:DAYLIGHT
TZOFFSETFROM:+0200
TZOFFSETTO:+0300
TZNAME:EEST
DTSTART:20240331T010000
END:DAYLIGHT
BEGIN:STANDARD
TZOFFSETFROM:+0300
TZOFFSETTO:+0200
TZNAME:EET
DTSTART:20241027T010000
END:STANDARD
END:VTIMEZONE
BEGIN:VEVENT
DTSTART;TZID=Europe/Helsinki:20230228T120000
DTEND;TZID=Europe/Helsinki:20230228T160000
DTSTAMP:20260424T090842
CREATED:20230206T193613Z
LAST-MODIFIED:20230206T194152Z
UID:20441-1677585600-1677600000@lammasyhdistys.fi
SUMMARY:Lammasketju-koulutus: Karitsointi ja karitsan alkukasvatus 28.2.2023
DESCRIPTION:Helmikuun lopun Lammasketju -koulutustilaisuudessa aiheena lampaiden karitsointi ja karitsojen alkukasvatus.\nAsiantuntijoina Milla Alanco-Ollqvist ja Sini Sillanpää\, ProAgria Etelä-Pohjanmaa.\n28.2.2023 klo 12-16 \n\n\nOhjelma:\n\nAlkusanat\nKaritsointiin valmistautuminen\nVinkit karitsointiin\nHyvän alkukasvun lähtökohdat: Karitsoiden kasvu syntymästä vieroitukseen\nÄlä unohda uuhta!\nKiitossanat\n\nKoulutus pidetään etäyhteydellä Teamsin kautta.\nHinta 25 €/henkilö. \nIlmoittautumiset 21.2.23 klo 23:59 mennessä Aito maaseutu sivujen  webropol-lomakkeen kautta täällä >.\n \nLisätietoja:\nMeri Pesonen\, meri.pesonen@proagria.fi \nTervetuloa kuulemaan käytännön vinkkejä kevään karitsointikaudelle!\nLammasketju -hanketta rahoittavat Manner-Suomen maaseudun kehittämisohjelma sekä Varsinais-Suomen\, Pohjanmaan\, Pohjois-Pohjanmaan\, Etelä-Pohjanmaan ja Keski-Suomen ELY-keskus. Hanketta hallinnoi Jyväskylän ammattikorkeakoulu ja se toteutetaan yhteistyössä ProAgria Etelä-Pohjanmaan sekä Suomen Lammasyhdistyksen kanssa.
URL:https://lammasyhdistys.fi/event/lammasketju-koulutus-karitsointi-ja-karitsan-alkukasvatus-28-2-2023/
END:VEVENT
END:VCALENDAR