BEGIN:VCALENDAR
VERSION:2.0
PRODID:-//Suomen Lammasyhdistys - ECPv6.15.13.1//NONSGML v1.0//EN
CALSCALE:GREGORIAN
METHOD:PUBLISH
X-WR-CALNAME:Suomen Lammasyhdistys
X-ORIGINAL-URL:https://lammasyhdistys.fi
X-WR-CALDESC:Tapahtumat Suomen Lammasyhdistys
REFRESH-INTERVAL;VALUE=DURATION:PT1H
X-Robots-Tag:noindex
X-PUBLISHED-TTL:PT1H
BEGIN:VTIMEZONE
TZID:Europe/Helsinki
BEGIN:DAYLIGHT
TZOFFSETFROM:+0200
TZOFFSETTO:+0300
TZNAME:EEST
DTSTART:20220327T010000
END:DAYLIGHT
BEGIN:STANDARD
TZOFFSETFROM:+0300
TZOFFSETTO:+0200
TZNAME:EET
DTSTART:20221030T010000
END:STANDARD
BEGIN:DAYLIGHT
TZOFFSETFROM:+0200
TZOFFSETTO:+0300
TZNAME:EEST
DTSTART:20230326T010000
END:DAYLIGHT
BEGIN:STANDARD
TZOFFSETFROM:+0300
TZOFFSETTO:+0200
TZNAME:EET
DTSTART:20231029T010000
END:STANDARD
BEGIN:DAYLIGHT
TZOFFSETFROM:+0200
TZOFFSETTO:+0300
TZNAME:EEST
DTSTART:20240331T010000
END:DAYLIGHT
BEGIN:STANDARD
TZOFFSETFROM:+0300
TZOFFSETTO:+0200
TZNAME:EET
DTSTART:20241027T010000
END:STANDARD
END:VTIMEZONE
BEGIN:VEVENT
DTSTART;VALUE=DATE:20230329
DTEND;VALUE=DATE:20230330
DTSTAMP:20260424T072329
CREATED:20230126T135331Z
LAST-MODIFIED:20230303T125551Z
UID:20375-1680048000-1680134399@lammasyhdistys.fi
SUMMARY:Kaupallisten eläinkuljetusten ja kuljettajien ja hoitajien koulutus ja koe 29.3.2023
DESCRIPTION:KAUPALLISTEN ELÄINKULJETUSTEN KULJETTAJIEN JA HOITAJIEN KOULUTUS JA KOE 29.3.2023 alkaen klo 9\n\n\n\n\nKaupallisissa eläinkuljetuksissa eläinten käsittely kuljetusten aikana ja kuljettaminen edellyttää kouluttautumista. Eläinten kuljettajille ja hoitajille asetettavat vaatimukset vaihtelevat kuljetettavan eläinlajin ja kuljetusmuodon mukaan. Kotieläiminä pidettäviä hevos-\, nauta-\, lammas-\, vuohi- ja sikaeläimiä tai siipikarjaa maantieajoneuvolla kuljetettaessa edellytetään kuljettajilta ja hoitajilta pätevyystodistusta. Muiden eläinlajien kuljettajilta ja hoitajilta edellytetään ainoastaan koulutukseen osallistumista. \nKoulutuksessa käsitellään seuraavien eläinlajien kuljetukset:\n• nautaeläimet\n• pienmärehtijät (lammas\, vuohi)\n• siat\n• siipikarja\n• kavioeläimet (hevonen\, poni) \nLue lisää >
URL:https://lammasyhdistys.fi/event/kaupallisten-elainkuljetusten-ja-kuljettajien-ja-koitajien-koulutus-ja-koe-29-3-2023/
END:VEVENT
END:VCALENDAR