BEGIN:VCALENDAR
VERSION:2.0
PRODID:-//Suomen Lammasyhdistys - ECPv6.15.13.1//NONSGML v1.0//EN
CALSCALE:GREGORIAN
METHOD:PUBLISH
X-ORIGINAL-URL:https://lammasyhdistys.fi
X-WR-CALDESC:Tapahtumat Suomen Lammasyhdistys
REFRESH-INTERVAL;VALUE=DURATION:PT1H
X-Robots-Tag:noindex
X-PUBLISHED-TTL:PT1H
BEGIN:VTIMEZONE
TZID:Europe/Helsinki
BEGIN:DAYLIGHT
TZOFFSETFROM:+0200
TZOFFSETTO:+0300
TZNAME:EEST
DTSTART:20220327T010000
END:DAYLIGHT
BEGIN:STANDARD
TZOFFSETFROM:+0300
TZOFFSETTO:+0200
TZNAME:EET
DTSTART:20221030T010000
END:STANDARD
BEGIN:DAYLIGHT
TZOFFSETFROM:+0200
TZOFFSETTO:+0300
TZNAME:EEST
DTSTART:20230326T010000
END:DAYLIGHT
BEGIN:STANDARD
TZOFFSETFROM:+0300
TZOFFSETTO:+0200
TZNAME:EET
DTSTART:20231029T010000
END:STANDARD
BEGIN:DAYLIGHT
TZOFFSETFROM:+0200
TZOFFSETTO:+0300
TZNAME:EEST
DTSTART:20240331T010000
END:DAYLIGHT
BEGIN:STANDARD
TZOFFSETFROM:+0300
TZOFFSETTO:+0200
TZNAME:EET
DTSTART:20241027T010000
END:STANDARD
END:VTIMEZONE
BEGIN:VEVENT
DTSTART;TZID=Europe/Helsinki:20230403T130000
DTEND;TZID=Europe/Helsinki:20230403T130000
DTSTAMP:20260424T072428
CREATED:20230328T074735Z
LAST-MODIFIED:20230328T074940Z
UID:20625-1680526800-1680526800@lammasyhdistys.fi
SUMMARY:Lammasinfo aloittavalle tai alaa vaihtavalle tilalle -webinaari 3.4.2023
DESCRIPTION:Oletko haaveillut alaa lampaiden parissa? Tule kuulolle webinaariin\, niin kuulet mitä kaikkea tulee huomioida. \nOhjelma:  \nklo. 13\nAloitusinfo\, ELINA II-hanke\, Kaie Ahlskog ProAgria Etelä-Suomi \nklo. 13-13.45\nLampaidenpidon aloitus (kuntailmoitus\, alv ja Y-tunnus). Lammastilan talouskirjanpito (verokirjanpito) -Katri Myry \nklo. 14\nLampolavaatimukset ( neliöt\, turvallisuus\, toiminnallisuus) Lampolaopas -Marja Jalo\, ProAgria Etelä-Suomi \nklo. 14.30\nMistä aloittaisin ( rodunvalinta\, tavoitteet\, hyödylliset linkit) – Kaie Ahlskog\, ProAgria Etelä-Suomi \nklo.15\nRehustus ja kuivitus\, laidun – Marja Jalo\, ProAgria Etelä-Suomi \nLoppukeskustelu – Kaie Ahlskog\, ProAgria Etelä-Suomi \nWebinaari on maksuton. \nWebinaarin järjestää ELINA II-hanke \n\n\n\n\n\nIlmoittaudu tästä >
URL:https://lammasyhdistys.fi/event/lammasinfo-aloittavalle-tai-alaa-vaihtavalle-tilalle-webinaari-3-4-2023/
END:VEVENT
END:VCALENDAR