BEGIN:VCALENDAR
VERSION:2.0
PRODID:-//Suomen Lammasyhdistys - ECPv6.15.13.1//NONSGML v1.0//EN
CALSCALE:GREGORIAN
METHOD:PUBLISH
X-WR-CALNAME:Suomen Lammasyhdistys
X-ORIGINAL-URL:https://lammasyhdistys.fi
X-WR-CALDESC:Tapahtumat Suomen Lammasyhdistys
REFRESH-INTERVAL;VALUE=DURATION:PT1H
X-Robots-Tag:noindex
X-PUBLISHED-TTL:PT1H
BEGIN:VTIMEZONE
TZID:Europe/Helsinki
BEGIN:DAYLIGHT
TZOFFSETFROM:+0200
TZOFFSETTO:+0300
TZNAME:EEST
DTSTART:20220327T010000
END:DAYLIGHT
BEGIN:STANDARD
TZOFFSETFROM:+0300
TZOFFSETTO:+0200
TZNAME:EET
DTSTART:20221030T010000
END:STANDARD
BEGIN:DAYLIGHT
TZOFFSETFROM:+0200
TZOFFSETTO:+0300
TZNAME:EEST
DTSTART:20230326T010000
END:DAYLIGHT
BEGIN:STANDARD
TZOFFSETFROM:+0300
TZOFFSETTO:+0200
TZNAME:EET
DTSTART:20231029T010000
END:STANDARD
BEGIN:DAYLIGHT
TZOFFSETFROM:+0200
TZOFFSETTO:+0300
TZNAME:EEST
DTSTART:20240331T010000
END:DAYLIGHT
BEGIN:STANDARD
TZOFFSETFROM:+0300
TZOFFSETTO:+0200
TZNAME:EET
DTSTART:20241027T010000
END:STANDARD
END:VTIMEZONE
BEGIN:VEVENT
DTSTART;TZID=Europe/Helsinki:20230412T150000
DTEND;TZID=Europe/Helsinki:20230412T150000
DTSTAMP:20260424T072334
CREATED:20230331T082643Z
LAST-MODIFIED:20230331T084641Z
UID:20638-1681311600-1681311600@lammasyhdistys.fi
SUMMARY:Miniwebbarium om ull 12.4.2023
DESCRIPTION:Gotlantilainen Ullkontoret tulee 12.4 webinaariin puhumaan villapesulastaan. Roskavillasta valmistetaan siellä myös villapellettejä lannoitteeksi. Tämän jälkeen AMK Novian opiskelija Alicia Trezise-Segervall esittelee suunnitelman villapesulan perustamisesta Suomeen (englanniksi). Mahtavaa jos lampureita tulisi mukaan kuuntelemaan ja kommentoimaan! \nIlmoittautuminen täältä: https://novia.mira.se/Events/206/Apply \n 
URL:https://lammasyhdistys.fi/event/miniwebbarium-om-ull-12-4-2023/
END:VEVENT
END:VCALENDAR