BEGIN:VCALENDAR
VERSION:2.0
PRODID:-//Suomen Lammasyhdistys - ECPv6.15.13.1//NONSGML v1.0//EN
CALSCALE:GREGORIAN
METHOD:PUBLISH
X-WR-CALNAME:Suomen Lammasyhdistys
X-ORIGINAL-URL:https://lammasyhdistys.fi
X-WR-CALDESC:Tapahtumat Suomen Lammasyhdistys
REFRESH-INTERVAL;VALUE=DURATION:PT1H
X-Robots-Tag:noindex
X-PUBLISHED-TTL:PT1H
BEGIN:VTIMEZONE
TZID:Europe/Helsinki
BEGIN:DAYLIGHT
TZOFFSETFROM:+0200
TZOFFSETTO:+0300
TZNAME:EEST
DTSTART:20220327T010000
END:DAYLIGHT
BEGIN:STANDARD
TZOFFSETFROM:+0300
TZOFFSETTO:+0200
TZNAME:EET
DTSTART:20221030T010000
END:STANDARD
BEGIN:DAYLIGHT
TZOFFSETFROM:+0200
TZOFFSETTO:+0300
TZNAME:EEST
DTSTART:20230326T010000
END:DAYLIGHT
BEGIN:STANDARD
TZOFFSETFROM:+0300
TZOFFSETTO:+0200
TZNAME:EET
DTSTART:20231029T010000
END:STANDARD
BEGIN:DAYLIGHT
TZOFFSETFROM:+0200
TZOFFSETTO:+0300
TZNAME:EEST
DTSTART:20240331T010000
END:DAYLIGHT
BEGIN:STANDARD
TZOFFSETFROM:+0300
TZOFFSETTO:+0200
TZNAME:EET
DTSTART:20241027T010000
END:STANDARD
END:VTIMEZONE
BEGIN:VEVENT
DTSTART;TZID=Europe/Helsinki:20230705T090000
DTEND;TZID=Europe/Helsinki:20230708T150000
DTSTAMP:20260424T021306
CREATED:20230705T104457Z
LAST-MODIFIED:20230705T105046Z
UID:21384-1688547600-1688828400@lammasyhdistys.fi
SUMMARY:Okra-maatalousnäyttely 5.-8.7.2023\, Oripään lentokenttä
DESCRIPTION:OKRA 2023 Lammasosasto 5-8.7.2023\, joka päivä klo 9–17 \nLAMMASOSASTOLLA TAPAHTUU: \nSLY paikalla joka päivä \nWWF- Laumanvartijakoira- hanke\nLaumanvartijakoirat ke ja to \nLihaketjuhanke\nLihaketjuhankkeen työpajakoulutukset: 2 päivänä (to ja la) noin 1 h koulutus\, sama ohjelma\nTeema 1: Rotujen ominaisuudet klo 10–11\nTeema 2: Hyvärakenteinen ja kestävä lammas klo 15–16 \nProAgria Etelä-Suomi\nOsaston kaunein lammas- yleisöäänestys\, palkintojenjako lauantaina klo 12.\nArvaa kuinka paljon villa painaa -kilpailu? \nSuomen Keritsijät ry\nKerintänäytöksiä lauantaina klo 11 ja 13 \nOkra-näyttelyn sivuille tästä >\nAluekartta ja näytteilleasettajat täällä >
URL:https://lammasyhdistys.fi/event/okra-maatalousnayttely-5-8-7-2023-oripaan-lentokentta/
END:VEVENT
BEGIN:VEVENT
DTSTART;TZID=Europe/Helsinki:20230706T000000
DTEND;TZID=Europe/Helsinki:20230708T000000
DTSTAMP:20260424T021306
CREATED:20230703T072024Z
LAST-MODIFIED:20230703T072134Z
UID:21374-1688601600-1688774400@lammasyhdistys.fi
SUMMARY:Lammasketju -koulutukset Okra-messuilla 6.7. ja 8.7.2023
DESCRIPTION:Lammasketju -hanke järjestää kaksi erilaista lampaiden jalostukseen liittyvää koulutusta Okra-messuilla. Ensimmäinen osa pidetään aamupäivällä klo 10-11 ja toinen osa iltapäivällä klo 15-16 sekä torstaina 6.\, että lauantaina 8.7.2023. Koulutukset kuuluvat messujen lipun hintaan eli erillistä maksua ei veloiteta. Myöskään ilmoittautumista ei vaadita\, vaan pääset osallistumaan tulemalla oikeaan aikaan paikan päälle. \nLammasjalostus\, osa 1: Rotujen ominaisuudet\nEnsimmäisen koulutuksen aikana kerrotaan eri lammasrotujen ominaisuuksista\, jalostustavoitteista ja rotukantakirjan vaatimuksista. Koulutus pidetään messuilla näytteillä olevien lampaiden luona\, joten eri rotuja pääsee vertailemaan elävien eläinten kautta. Lopuksi kerrotaan vielä\, mitä kaikkea tulee ottaa huomioon\, kun tilalle ostetaan uusia eläimiä\, sekä se mistä hyviä jalostuseläimiä ylipäätään voi löytää. \n\nRotujen ominaisuudet\nEläinten osto ja myynti\n\nLammasosastolla lisäksi Okra-messujen ajan:\n\nLammasjalostus\, osa 2: Hyvärakenteinen ja kestävä lammas -koulutus to ja la klo 15-16\nJoka päivä paikalla lammasasiantuntijoita ja eläinten omistajia esittelemässä eri rotuja ja kertomassa lisää lammasjalostuksesta\nKooste lampaiden tuotantotuloksista\, tietoa kantakirjan arvoluokituksesta sekä jalostusvalinnoista\nNettiKatraan esittely (demo)\nLammasketju -hankkeen henkilöstöä keskustelemassa kotimaisen lampaanlihantuotannon kehittämisestä
URL:https://lammasyhdistys.fi/event/lammasketju-koulutukset-okra-messuilla-6-7-ja-8-7-2023/
END:VEVENT
END:VCALENDAR