BEGIN:VCALENDAR
VERSION:2.0
PRODID:-//Suomen Lammasyhdistys - ECPv6.15.13.1//NONSGML v1.0//EN
CALSCALE:GREGORIAN
METHOD:PUBLISH
X-ORIGINAL-URL:https://lammasyhdistys.fi
X-WR-CALDESC:Tapahtumat Suomen Lammasyhdistys
REFRESH-INTERVAL;VALUE=DURATION:PT1H
X-Robots-Tag:noindex
X-PUBLISHED-TTL:PT1H
BEGIN:VTIMEZONE
TZID:Europe/Helsinki
BEGIN:DAYLIGHT
TZOFFSETFROM:+0200
TZOFFSETTO:+0300
TZNAME:EEST
DTSTART:20220327T010000
END:DAYLIGHT
BEGIN:STANDARD
TZOFFSETFROM:+0300
TZOFFSETTO:+0200
TZNAME:EET
DTSTART:20221030T010000
END:STANDARD
BEGIN:DAYLIGHT
TZOFFSETFROM:+0200
TZOFFSETTO:+0300
TZNAME:EEST
DTSTART:20230326T010000
END:DAYLIGHT
BEGIN:STANDARD
TZOFFSETFROM:+0300
TZOFFSETTO:+0200
TZNAME:EET
DTSTART:20231029T010000
END:STANDARD
BEGIN:DAYLIGHT
TZOFFSETFROM:+0200
TZOFFSETTO:+0300
TZNAME:EEST
DTSTART:20240331T010000
END:DAYLIGHT
BEGIN:STANDARD
TZOFFSETFROM:+0300
TZOFFSETTO:+0200
TZNAME:EET
DTSTART:20241027T010000
END:STANDARD
END:VTIMEZONE
BEGIN:VEVENT
DTSTART;TZID=Europe/Helsinki:20231107T000000
DTEND;TZID=Europe/Helsinki:20231109T000000
DTSTAMP:20260423T191344
CREATED:20230817T151642Z
LAST-MODIFIED:20231017T164509Z
UID:21478-1699315200-1699488000@lammasyhdistys.fi
SUMMARY:Valtakunnalliset lammaspäivät 7.-9.11.2023 Oulussa
DESCRIPTION:Syksyn Valtakunnalliset Lammaspäivät pidetään Oulussa 7.-9.11.2023. Ohjelmassa sidosryhmätapaaminen\, opintoretki\, seminaari\, lampuri-illallinen ja Suomen Lammasyhdistyksen syyskokous. \nJärjestäjät; ProAgria\, Suomen Lammasyhdistys ja Lampaanlihan tuotantoketjun kehittäminen-hanke. \nVALTAKUNNALLISET LAMMASPÄIVÄT \nOhjelma pdf>\nIlmoittaudu täällä > \nPaikka: Original Sokos Hotel Arina\, Kauppakeskus Valkea\, Pakkahuoneenkatu 16\, 90100 Oulu\nPuh. +358 8 3123 111 sokoshotels.fi/fi/oulu/sokos-hotel-arina \nTiistai 7.11.2023 Opintoretki \n12.00 Lähtö Original Sokos Hotel Arina\n12.05 Oulun rautatieasema\n12.30 Pikkujämsän tila\, Juho Pikkujämsä ja Tarja Juntto\, Haukipudas. Tilalla on 110 suomenlammasta. Luomuviljelyä. Lampaat ovat kahdessa rakennuksessa. Lihan ja taljojen suoramyyntiä. Emolehmiä ja polttopuunmyyntiä Haukipilke -nimellä. \n14.00 LOUNAS\, Shell Ii \n15.30 Kallion lammas\, Hanna ja Kimmo Kallio\,  Kuivaniemi. Tilalla on suomenlampaita ja risteytyksiä 220 kpl. Kaksi pihattoa\, ruokinta käsin ja koneilla avustettuna. Lihan ja taljojen suoramyyntiä\, paimenkoiraleirejä. \n17.00 Kuivaniemen Tilaliha\, Hyrynoja. Osk Kuivaniemen Tilaliha on pienteurastamo Kuivaniemen Hyryn kylässä. Perustettu 1997. Taurastamon yhteydessä on leikkaamo ja jalostustilat. Jalostaa leikatuista lihoista mm. säilykkeitä\, kylmäsavuja ja makkaroita. \nKAHVIT Kuivaniemen Tilalihalla. \n19.15 Original Sokos Hotel Arina \nRetken osallistumismaksu 75 eur + alv 24 % sisältäen bussikuljetuksen\, vierailukäynnit\, lounaan\, kahvin ja suojavaatteet. \nKeskiviikko 8.11.2023 Vastuullinen ja yhteistyöllä kehittyvä lammastuotanto -seminaari  \nLampaanlihan tuotantoketjun kehittäminen -hankkeen päätösseminaari \n9.00 Seminaarin avaus\, Vesa Nuolioja\, ProAgria Oulu\n9.15 Miten vastuullisuus näkyy lammasketjussa\, Sari Kurikka\, Kurikan Lammastila\, Anne Närhilä\, Veljekset Rönkä Oy\, Laura Ihanainen\, Kesko \n10.15 Vastuullisuuskartoitusten tuloksia\, Sari Heltelä\, ProAgria Etelä-Savo\n10.45 Ketjun sisäinen viestintä\, Niina Koivisto\, agrologi-opiskelija JAMK\n11.00 Lammastilan riskienhallinta ja varautuminen\, Urpo Heikkinen\, Lähitapiola \n11.40 LOUNAS \n12.40 Jaksaminen ja kriisitilanteen hallinta\, Anne Mäenpää\, Terapiapalvelu Kapsäkki\n13.35 Matalan kynnyksen apua ja tukea\, Tiina Kukkonen ja Urpo Heikkinen\, Maaseudun tukihenkilöverkko\n13.50 Liha-alan viestintä\, Anniina Holopainen\, Suomen Lammasosuuskunta\n14.10 Lammasketju-hankkeen toiminnan tuloksia\, Marianne Reinikka\, JAMK \n14.30 KAHVI ja Learning cafe: Materiaaleja lammasketjun kehittämiseksi\n16.00 Seminaari päättyy \n19.00 Lampuri-illallinen Ravintola Veranta\, á 45 eur.\nMenu: Maa-artisokkakeitto\, Meri-Lapin Karitsan rosvopaisti\, timjamikastike\, paahdettuja juureksia\, yrttiperunoita. Lakka cremebrule. \nSeminaarin hinta 70 eur + alv 24 % sisältäen ohjelman mukaisen koulutuksen\, koulutusmateriaalit ja kokoustarjoilut. Etäosallistumismahdollisuus järjestetään\, hinta 40 eur + alv 24 %. Ilmoittautuneille lähetetään linkki sähköpostilla ennen seminaaria. \nTorstai 9.11.2023 Suomen Lammasyhdistyksen syyskokous \n9.00 Kokouksen avaus\, puheenjohtaja Janne Jokela\n9.15 Päivitetyn lammasstrategian esittely\, MTK:n Lammasverkosto\n10.00 Lihaketjuhankkeen materiaalipankin esittely\, SLY\n10.30 Vastuullisuus lammastilalla\, lampuri Sirpa Tyrväinen ja lammastalouden erityisasiantuntija Sari Heltelä\, ProAgria \n11.30 Lounas (omakustanteinen\, 24\,50 €) \n12.30 Kokous jatkuu\nVuoden lammastilan 2023 palkitseminen\nLampaiden tuotosseurannan parhaat tilat 2022\, kunniakirjojen jako \n\n13.00 Sääntömääräiset asiat\, § 4\nHallituksen jäsenistä ja varajäsenistä erovuorossa ovat edustajat alueilta: I: Pirkanmaa\, Satakunta\, Varsnais-Suomi\, Kanta-Häme\, Etelä-Suomen ruotsinkielinen rannikko\nIV: Lappi\n14.00 KAHVITAUKO\, SLY tarjoaa kokouskahvit\n15.00 Kokouksen päätös
URL:https://lammasyhdistys.fi/event/valtakunnalliset-lammaspaivat-7-9-11-2023-oulussa/
END:VEVENT
END:VCALENDAR