BEGIN:VCALENDAR
VERSION:2.0
PRODID:-//Suomen Lammasyhdistys - ECPv6.15.13.1//NONSGML v1.0//EN
CALSCALE:GREGORIAN
METHOD:PUBLISH
X-WR-CALNAME:Suomen Lammasyhdistys
X-ORIGINAL-URL:https://lammasyhdistys.fi
X-WR-CALDESC:Tapahtumat Suomen Lammasyhdistys
REFRESH-INTERVAL;VALUE=DURATION:PT1H
X-Robots-Tag:noindex
X-PUBLISHED-TTL:PT1H
BEGIN:VTIMEZONE
TZID:Europe/Helsinki
BEGIN:DAYLIGHT
TZOFFSETFROM:+0200
TZOFFSETTO:+0300
TZNAME:EEST
DTSTART:20220327T010000
END:DAYLIGHT
BEGIN:STANDARD
TZOFFSETFROM:+0300
TZOFFSETTO:+0200
TZNAME:EET
DTSTART:20221030T010000
END:STANDARD
BEGIN:DAYLIGHT
TZOFFSETFROM:+0200
TZOFFSETTO:+0300
TZNAME:EEST
DTSTART:20230326T010000
END:DAYLIGHT
BEGIN:STANDARD
TZOFFSETFROM:+0300
TZOFFSETTO:+0200
TZNAME:EET
DTSTART:20231029T010000
END:STANDARD
BEGIN:DAYLIGHT
TZOFFSETFROM:+0200
TZOFFSETTO:+0300
TZNAME:EEST
DTSTART:20240331T010000
END:DAYLIGHT
BEGIN:STANDARD
TZOFFSETFROM:+0300
TZOFFSETTO:+0200
TZNAME:EET
DTSTART:20241027T010000
END:STANDARD
END:VTIMEZONE
BEGIN:VEVENT
DTSTART;TZID=Europe/Helsinki:20231124T130000
DTEND;TZID=Europe/Helsinki:20231124T160000
DTSTAMP:20260423T204452
CREATED:20231121T115556Z
LAST-MODIFIED:20231121T115556Z
UID:21949-1700830800-1700841600@lammasyhdistys.fi
SUMMARY:Hyvät toimintatavat lammastilalla -webinaari 24.11.2023
DESCRIPTION:Hyvät toimintatavat lammastilalla -webinaari tarjoaa tietoa tilan perustamisesta\, vaatimuksista\, rekisteröinnistä ja erilaisista tuista. \nOhjelmassa \nklo 13.00 Lammastilan tuet – talousasiantuntija Katri Myry\, ProAgria Etelä-Suomi \nklo 14.00 Lampaiden- ja vuohien merkitseminen ja rekisteröinti Marjaana Spets\, Ruokavirasto \nklo 14.20  Eläinaines\, hankinta ja rekisteröinnit\, erityisasiantuntija Kaie Ahlskog\, ProAgria Etelä-Suomi \nklo 14.30 Jalostuseläinten hankinta \nLampurin puheenvuoro: tuontirodut\, Anttilan tila \nLampurin puheenvuoro: suomenlampaat\, Lihasulan Säätiön Lammastila \nklo 15.00 Ostoeläinten karanteeni ja lääkintäkirjanpito\, ELL Johanna Rautianen\, Lammasmaailma Oy \nIlmoittaudu 22.11. mennessä. Tapahtuma on maksuton. Tervetuloa! \nWebinaari järjestetään yhteistyössä Lihasulan Säätiön kanssa. \nLisätiedot:\nKaie Ahlskog\nErityisasiantuntija\, lammas- ja vuohitilat\nProAgria Etelä-Suomi\nkaie.ahlskog@proagria.fi\n0400 731 811 \nLue lisää tapahtumasta / ilmoittaudu
URL:https://lammasyhdistys.fi/event/hyvat-toimintatavat-lammastilalla-webinaari-24-11-2023/
END:VEVENT
END:VCALENDAR