BEGIN:VCALENDAR
VERSION:2.0
PRODID:-//Suomen Lammasyhdistys - ECPv6.15.13.1//NONSGML v1.0//EN
CALSCALE:GREGORIAN
METHOD:PUBLISH
X-ORIGINAL-URL:https://lammasyhdistys.fi
X-WR-CALDESC:Tapahtumat Suomen Lammasyhdistys
REFRESH-INTERVAL;VALUE=DURATION:PT1H
X-Robots-Tag:noindex
X-PUBLISHED-TTL:PT1H
BEGIN:VTIMEZONE
TZID:Europe/Helsinki
BEGIN:DAYLIGHT
TZOFFSETFROM:+0200
TZOFFSETTO:+0300
TZNAME:EEST
DTSTART:20220327T010000
END:DAYLIGHT
BEGIN:STANDARD
TZOFFSETFROM:+0300
TZOFFSETTO:+0200
TZNAME:EET
DTSTART:20221030T010000
END:STANDARD
BEGIN:DAYLIGHT
TZOFFSETFROM:+0200
TZOFFSETTO:+0300
TZNAME:EEST
DTSTART:20230326T010000
END:DAYLIGHT
BEGIN:STANDARD
TZOFFSETFROM:+0300
TZOFFSETTO:+0200
TZNAME:EET
DTSTART:20231029T010000
END:STANDARD
BEGIN:DAYLIGHT
TZOFFSETFROM:+0200
TZOFFSETTO:+0300
TZNAME:EEST
DTSTART:20240331T010000
END:DAYLIGHT
BEGIN:STANDARD
TZOFFSETFROM:+0300
TZOFFSETTO:+0200
TZNAME:EET
DTSTART:20241027T010000
END:STANDARD
END:VTIMEZONE
BEGIN:VEVENT
DTSTART;TZID=Europe/Helsinki:20231213T140000
DTEND;TZID=Europe/Helsinki:20231213T153000
DTSTAMP:20260423T175840
CREATED:20231122T164805Z
LAST-MODIFIED:20231122T164805Z
UID:21954-1702476000-1702481400@lammasyhdistys.fi
SUMMARY:Lammastilatutkimus 2023 -julkaisuwebinaari 13.12.2023
DESCRIPTION:Lammastilatutkimus 2023 toteutettiin Lampaanlihan tuotantoketjun kehittäminen -hankkeen toimesta keväällä 2023. Tässä webinaarissa esitellään tutkimuksen keskeisimpiä tuloksia. \nTapahtuma on maksuton. Ilmoittaudu mukaan oheisen ilmoittaudu mukaan -painikkeen tai tämän linkin kautta 12.12.2023 klo 23.59 mennessä. Osallistumislinkki toimitetaan ilmoittautuneille webinaaripäivän aamuna. \nLisätietoja: marianne.reinikka(at)jamk.fi \nLampaanlihan tuotantoketjun kehittäminen -hanketta rahoittavat Manner-Suomen maaseudun kehittämisohjelma sekä Varsinais-Suomen\, Pohjanmaan\, Pohjois-Pohjanmaan\, Etelä-Pohjanmaan ja Keski-Suomen ELY-keskukset. Hanketta hallinnoi Jyväskylän ammattikorkeakoulu ja se toteutetaan yhteistyössä ProAgria Etelä-Pohjanmaan sekä Suomen Lammasyhdistyksen kanssa. \nIlmoittaudu mukaan >
URL:https://lammasyhdistys.fi/event/lammastilatutkimus-2023-julkaisuwebinaari-13-12-2023/
END:VEVENT
END:VCALENDAR