BEGIN:VCALENDAR
VERSION:2.0
PRODID:-//Suomen Lammasyhdistys - ECPv6.15.13.1//NONSGML v1.0//EN
CALSCALE:GREGORIAN
METHOD:PUBLISH
X-ORIGINAL-URL:https://lammasyhdistys.fi
X-WR-CALDESC:Tapahtumat Suomen Lammasyhdistys
REFRESH-INTERVAL;VALUE=DURATION:PT1H
X-Robots-Tag:noindex
X-PUBLISHED-TTL:PT1H
BEGIN:VTIMEZONE
TZID:Europe/Helsinki
BEGIN:DAYLIGHT
TZOFFSETFROM:+0200
TZOFFSETTO:+0300
TZNAME:EEST
DTSTART:20230326T010000
END:DAYLIGHT
BEGIN:STANDARD
TZOFFSETFROM:+0300
TZOFFSETTO:+0200
TZNAME:EET
DTSTART:20231029T010000
END:STANDARD
BEGIN:DAYLIGHT
TZOFFSETFROM:+0200
TZOFFSETTO:+0300
TZNAME:EEST
DTSTART:20240331T010000
END:DAYLIGHT
BEGIN:STANDARD
TZOFFSETFROM:+0300
TZOFFSETTO:+0200
TZNAME:EET
DTSTART:20241027T010000
END:STANDARD
BEGIN:DAYLIGHT
TZOFFSETFROM:+0200
TZOFFSETTO:+0300
TZNAME:EEST
DTSTART:20250330T010000
END:DAYLIGHT
BEGIN:STANDARD
TZOFFSETFROM:+0300
TZOFFSETTO:+0200
TZNAME:EET
DTSTART:20251026T010000
END:STANDARD
END:VTIMEZONE
BEGIN:VEVENT
DTSTART;TZID=Europe/Helsinki:20240314T090000
DTEND;TZID=Europe/Helsinki:20240314T150000
DTSTAMP:20260423T125754
CREATED:20240220T081053Z
LAST-MODIFIED:20240220T081053Z
UID:23429-1710406800-1710428400@lammasyhdistys.fi
SUMMARY:Eläinkuljettajakoulutus; Kaupallisten eläinkuljetusten kuljettajien ja hoitajien koulutus ja koe 14.3.2024
DESCRIPTION:Koulutuksen kuvaus \nKaupallisissa eläinkuljetuksissa eläinten käsittely kuljetusten aikana ja kuljettaminen edellyttää kouluttautumista. Eläinten kuljettajille ja hoitajille asetettavat vaatimukset vaihtelevat kuljetettavan eläinlajin ja kuljetusmuodon mukaan. Kotieläiminä pidettäviä hevos-\, nauta-\, lammas-\, vuohi- ja sikaeläimiä tai siipikarjaa maantieajoneuvolla kuljetettaessa edellytetään kuljettajilta ja hoitajilta pätevyystodistusta. Muiden eläinlajien kuljettajilta ja hoitajilta edellytetään ainoastaan koulutukseen osallistumista. \nToteutusaika 14.03.2024 \nHinta 150 € + alv 24 % \nPaikka HAMK\, Hämeenlinnan korkeakoulukeskus \nKoulutuksen sisältö \nEläinten fysiologia ja etenkin juoma- ja ravintotarpeet\, eläinten käyttäytyminen ja stressin käsite\nEläinten käsittelyn käytännön näkökohtia\nAjokäyttäytymisen vaikutukset kuljetettavien eläinten hyvinvointiin ja lihan laatuun\nEläimille annettava ensiapu\nEläimiä käsittelevän henkilökunnan turvallisuusnäkökohdat\nEläinkuljetuksia koskevat eläinkuljetusasetuksen yleiset edellytykset \nKouluttajat\nMMM\, agr. Tiina Harrinkari \nLisätiedot \nKoulutuksessa käsitellään seuraavien eläinlajien kuljetukset:\n• nautaeläimet\n• pienmärehtijät (lammas\, vuohi)\n• siat\n• siipikarja\n• kavioeläimet (hevonen\, poni) \nKoekysymykset kattavat samat eläinlajit. \nHuom! Mikäli haluat tenttiä vain tietyn yhden eläinlajin\, niin ilmoita asiasta hyvissä ajoin ennen koulutuspäivää.\nKoulutuksen materiaalit ja koekysymykset ovat suomeksi\, englanniksi ja venäjäksi. \nLue lisää ja ilmoittaudu tästä 6.3.2024 mennessä > \nMuu info \nKoulutus klo 9–15. Koe aloitetaan heti koulutuksen päättymisen jälkeen. \nPeruutusehdot \nOsallistumisen voi perua ilman kuluja ilmoittautumisajan loppuun saakka. Mikäli peruminen tehdään ilmoittautumisajan päätyttyä\, perimme 50 % koulutuksen maksusta. Koulutuksen alkamisen jälkeen tehtävistä peruutuksista tai peruuttamatta jättämisestä veloitamme täyden maksun. Koulutuksen maksut ovat perintäkelpoisia (laki n:o 706/2007)
URL:https://lammasyhdistys.fi/event/elainkuljettajakoulutus-kaupallisten-elainkuljetusten-kuljettajien-ja-hoitajien-koulutus-ja-koe-14-3-2024/
END:VEVENT
END:VCALENDAR