BEGIN:VCALENDAR
VERSION:2.0
PRODID:-//Suomen Lammasyhdistys - ECPv6.15.13.1//NONSGML v1.0//EN
CALSCALE:GREGORIAN
METHOD:PUBLISH
X-ORIGINAL-URL:https://lammasyhdistys.fi
X-WR-CALDESC:Tapahtumat Suomen Lammasyhdistys
REFRESH-INTERVAL;VALUE=DURATION:PT1H
X-Robots-Tag:noindex
X-PUBLISHED-TTL:PT1H
BEGIN:VTIMEZONE
TZID:Europe/Helsinki
BEGIN:DAYLIGHT
TZOFFSETFROM:+0200
TZOFFSETTO:+0300
TZNAME:EEST
DTSTART:20230326T010000
END:DAYLIGHT
BEGIN:STANDARD
TZOFFSETFROM:+0300
TZOFFSETTO:+0200
TZNAME:EET
DTSTART:20231029T010000
END:STANDARD
BEGIN:DAYLIGHT
TZOFFSETFROM:+0200
TZOFFSETTO:+0300
TZNAME:EEST
DTSTART:20240331T010000
END:DAYLIGHT
BEGIN:STANDARD
TZOFFSETFROM:+0300
TZOFFSETTO:+0200
TZNAME:EET
DTSTART:20241027T010000
END:STANDARD
BEGIN:DAYLIGHT
TZOFFSETFROM:+0200
TZOFFSETTO:+0300
TZNAME:EEST
DTSTART:20250330T010000
END:DAYLIGHT
BEGIN:STANDARD
TZOFFSETFROM:+0300
TZOFFSETTO:+0200
TZNAME:EET
DTSTART:20251026T010000
END:STANDARD
END:VTIMEZONE
BEGIN:VEVENT
DTSTART;TZID=Europe/Helsinki:20240601T080000
DTEND;TZID=Europe/Helsinki:20240930T170000
DTSTAMP:20260423T043458
CREATED:20240510T085502Z
LAST-MODIFIED:20240510T085535Z
UID:24308-1717228800-1727715600@lammasyhdistys.fi
SUMMARY:Nuori neuloo -suunnittelukilpailu 1.6.-30.9.2024
DESCRIPTION:Nuori Neuloo 2024 -suunnittelukilpailu on tarkoitettu 13-24 vuotiaille neulomisesta kiinnostuneille nuorille \n\n\n\nKilpailukategorioita on kaksi:\n13-18 vuotiaat sekä 19-24 vuotiaat\n\n\nPääpalkintona molempien kategorioitten voittajalle on pitkä viikonloppu Isokummun Luomu Oy:n omistamassa luxusmökissä Kalajoella (arvo 400€). Kilpailun edetessä osallistujilla on mahdollisuus saada myös yllätyspalkintoja.\n\n\nOHJEET ja LISÄTIETOJA OSALLISTUJILLE:\n•Kilpailuun ei tarvitse erikseen ilmoittautua\n•Käsityön on oltava osallistujan itsesuunnittelema ja toteuttama\n•Käsityö ei saa olla kopio toisen neulojan työstä (siitä jää aina kiinni)\n\n•Mikäli olet alle 18 vuotias\, kerro osallistumisesta huoltajillesi \n\n•Kun käsityö on valmis\, lähetä joko kilpailun Facebookin tai Instagramin messengeriin:\nmahdollisimman tarkka kuva/kuvia kilpailutyöstäsi (valmistaudu lisäkuvien pyyntöön)\nerittäin yksityiskohtainen valmistusohje (valmistaudu lisäkysymyksiin)\ntarina työn taustalta\nsyy osallistumiseen\ntunnelmia ja kokemuksia neulomiseen liittyen\n\nikäsi ja yhteystietosi \n\n•Kuvat lähetettyäsi\, annat niiden käyttöoikeuden järjestävälle taholle\n•Kuvia tullaan käyttämään ainoastaan kilpailun somesivustoilla ilman\, että koko nimeäsi mainitaan\n•Julkaise kesä-syyskuun aikana Instagramissa kuvia työn edistymisestä\, sillä kuvien ja niiden yhteydessä olevien tarinoiden pohjalta osallistujilla on mahdollisuus saada välipalkintoja yhteistyökumppaneiltamme\n•Tägää Instagram-julkaisuihin @nuori_neuloo24 ja käytä #nuorineuloo2024 -hästägiä\, jotta näemme päivitykset reaaliajassa\n\n•Mikäli osallistujien joukosta löytyy 20 erityisen kiinnostavaa ja uniikkia käsityötä\, yritämme hankkia kustantajan julkaisemaan niistä Nuori Neuloo -neulekirjan \n\n\n\nOHJEET JA LISÄTIETOJA\nYHTEISTYÖKUMPPANEILLE:\n•Mikäli olet kiinnostunut yhteistyöstä joko välipalkintojen lahjoittajana tai antamalla alennuksia yrityksesi tuotevalikoimasta\, ota yhteyttä viestillä\, niin sovitaan yksityiskohdista\n•Mikäli olet kiinnostunut tämän tärkeän kilpailun mainostamisesta somekanavillasi\, ota yhteyttä viestitse saadaksesi kilpailun logon\n\n\nJärjestäjä: Isokummun kehräämö\nIsokummun Kehräämö\nPromoottori: Marjut Ruusuvaara\n\n\nOnnea kisaan ja tervetuloa mukaan!
URL:https://lammasyhdistys.fi/event/nuori-neuloo-suunnittelukilpailu-1-6-30-9-2024/
END:VEVENT
BEGIN:VEVENT
DTSTART;TZID=Europe/Helsinki:20240823T160000
DTEND;TZID=Europe/Helsinki:20240823T160000
DTSTAMP:20260423T043458
CREATED:20240705T084004Z
LAST-MODIFIED:20240729T103511Z
UID:24902-1724428800-1724428800@lammasyhdistys.fi
SUMMARY:Kokouskutsu 23.8.2024
DESCRIPTION:Suomen Lammasyhdistys ry:n sääntömääräinen kevätkokous ja kesäretki pe 23.8.2024\, lähtö klo 16 Svedjehamn\, Björköby\, Mustasaari. \nSuomen Lammasyhdistyksen hallitus kutsuu lampurit sääntömääräiseen kevätkokoukseen ja veneretkelle Björköbyn edustalle perjantaina 23.8.2024 klo 16 alkaen. Kokous järjestetään InterNorden-konferenssin päätteeksi. \nRetkelle lähdetään Björköbyn Svedjehamnista klo 16. Tarkoitus on veneillä Björköbyn edustalla olevaan saareen\, jossa laidunnetaan lampaita. Saaressa pidetään Lammasyhdistyksen kevätkokous\, kuullaan saaria laiduntavien lampureiden tuotannosta ja käydään katsomassa lampaita\, jos ne ovat lähistöllä. Paluu Svedjehamniin tapahtuu noin klo 19. \nSuomen Lammasyhdistyksen kokouksen avaa hallituksen puheenjohtaja Janne Jokela. Kokouksessa käsitellään:\n• yhdistyksen sääntöjen § 4:n mukaiset kevätkokousasiat\n• mahdolliset muut asiat \nSLY tarjoaa kokouskahvit. Retki on Lammasyhdistyksen jäsenille ilmainen. Kokoukseen ei pysty osallistumaan etäyhteydellä. \nKokoukseen ja retkelle ilmoittautumiset sekä tiedustelut 11.8.2024 mennessä sähköpostilla info@lammasyhdistys.fi . Ilman autoa liikkuville voidaan järjestää kyyti Vaasan keskustasta Svedjehamniin ja takaisin. \nLisäohjeet lähetetään sähköpostilla ilmoittautuneille\, minkä lisäksi ne löytyvät SLY:n kotisivuilta www.lammasyhdistys.fi ja Facebook-sivulta https://www.facebook.com/SuomenLammasyhdistys/ \nJonkin pakottavan syyn vaatiessa ohjelman muutokset ovat mahdollisia. \nLämpimästi tervetuloa!
URL:https://lammasyhdistys.fi/event/kokouskutsu-23-8-2024/
END:VEVENT
BEGIN:VEVENT
DTSTART;TZID=Europe/Helsinki:20240823T160000
DTEND;TZID=Europe/Helsinki:20240823T160000
DTSTAMP:20260423T043458
CREATED:20240705T085503Z
LAST-MODIFIED:20240705T085503Z
UID:24905-1724428800-1724428800@lammasyhdistys.fi
SUMMARY:Möteskallelse 23.8.2024
DESCRIPTION:Finlands Fårförening håller sitt stadgeenliga vårmöte och ordnar en sommarutflykt fredagen 23.8.2024\, start kl. 16 från Svedjehamn\, Björköby. \nFinlands Fårförenings styrelse kallar sina medlemmar till det stadgeenliga vårmötet och en båtutflykt i närheten av Björköby fredagen 23.8.2024 från kl. 16. Mötet ordnas efter InterNorden-konferensen. Vi startar från Svedjehamn i Björköby kl. 16 och åker ut till en holme där det betar får. På holmen hålls Fårföreningens vårmöte\, och vi får höra fårägare med får på holmarna berätta om sin produktion samt se fåren\, om de råkar befinna sig i närheten. Vi är tillbaka i Svedjehamn ca kl. 19. \nMötet öppnas av Finlands Fårförenings styrelseordförande Janne Jokela.\nPå mötet behandlas:\n• vårmötesärenden enligt § 4 i föreningens stadgar\n• eventuella övriga ärenden \nFöreningen bjuder på kaffe. Utflykten är gratis för Finlands Fårförenings medlemmar. Det är inte möjligt att delta i mötet på distans. \nAnmälningar till mötet och utflykten samt förfrågningar senast 11.8.2023 per e-post info@lammasyhdistys.fi . Bilskjuts kan vid behov ordnas från Vasa centrum till Svedjehamn och tillbaka. \nYtterligare anvisningar skickas per e-post till de som anmält sig. Dessutom publiceras de på föreningens hemsidawww.lammasyhdistys.fi och\nFacebook-sida https://www.facebook.com/SuomenLammasyhdistys/. \nPå grund av tvingande skäl kan programmet ändras. \nVarmt välkomna!
URL:https://lammasyhdistys.fi/event/moteskallelse-23-8-2024/
END:VEVENT
END:VCALENDAR