BEGIN:VCALENDAR
VERSION:2.0
PRODID:-//Suomen Lammasyhdistys - ECPv6.15.13.1//NONSGML v1.0//EN
CALSCALE:GREGORIAN
METHOD:PUBLISH
X-ORIGINAL-URL:https://lammasyhdistys.fi
X-WR-CALDESC:Tapahtumat Suomen Lammasyhdistys
REFRESH-INTERVAL;VALUE=DURATION:PT1H
X-Robots-Tag:noindex
X-PUBLISHED-TTL:PT1H
BEGIN:VTIMEZONE
TZID:Europe/Helsinki
BEGIN:DAYLIGHT
TZOFFSETFROM:+0200
TZOFFSETTO:+0300
TZNAME:EEST
DTSTART:20230326T010000
END:DAYLIGHT
BEGIN:STANDARD
TZOFFSETFROM:+0300
TZOFFSETTO:+0200
TZNAME:EET
DTSTART:20231029T010000
END:STANDARD
BEGIN:DAYLIGHT
TZOFFSETFROM:+0200
TZOFFSETTO:+0300
TZNAME:EEST
DTSTART:20240331T010000
END:DAYLIGHT
BEGIN:STANDARD
TZOFFSETFROM:+0300
TZOFFSETTO:+0200
TZNAME:EET
DTSTART:20241027T010000
END:STANDARD
BEGIN:DAYLIGHT
TZOFFSETFROM:+0200
TZOFFSETTO:+0300
TZNAME:EEST
DTSTART:20250330T010000
END:DAYLIGHT
BEGIN:STANDARD
TZOFFSETFROM:+0300
TZOFFSETTO:+0200
TZNAME:EET
DTSTART:20251026T010000
END:STANDARD
END:VTIMEZONE
BEGIN:VEVENT
DTSTART;TZID=Europe/Helsinki:20241011T100000
DTEND;TZID=Europe/Helsinki:20241011T150000
DTSTAMP:20260423T005452
CREATED:20240917T083115Z
LAST-MODIFIED:20240917T083218Z
UID:25370-1728640800-1728658800@lammasyhdistys.fi
SUMMARY:Finnsheep-päiva 11.10.2024\, Kangasala
DESCRIPTION:Jokavuotinen Finnsheep-päivä järjestetään pe 11.10.2024 Kangasalalla. \nSeminaarin teemana on Suomenlampaan tulevaisuus. Finnsheep ry:n 20-vuotisjuhlan kunniaksi järjestetään seminaarin päätteeksi kilpailu suomenlampaanvillasta tehdyille tuotteille. \nOhjelma \nklo 10.00 Tervetuloa! ProAgria ja Lihasulan säätiö \nklo 10.15 Leader-rahoituksesta apua lampurin yritystoiminnan kehittämiseen\, Jutta Ahro\, Pokory \nklo 11.00 Nurmien siemenseosten tulevaisuuden ratkaisut: hiilensidonta\, ilmastonmuutos ja kasvilajit\, lisääntyvän kuivuuden kesto\, rehun riittävyys tulevaisuudessa\, Henna Aapro\, ProAgria Etelä-Suomi \nklo 11.30 APR-tuet\, luennoitsija tarkentuu \nklo 12.00 Lounas \nklo 13.00 Suomenlampaan ominaispiirteet\, tilastotiedot Nettikatras data\, Johanna Alamikkotervo\, lampuri Vanhala lammastila ja Marja-Liisa Sevon-Aimonen. \nklo 14.00 Suomenlampaan tulevaisuus\, Jarmo Latvanen\, Tolvilan kartano \nklo 15.00 Finnsheep ry 20 vuotta\, Tarja Kosunen-Krannila \nTapahtumassa mukana Finnsheep ry ja Lihasulan Säätiö. \n  \nIlmoittautuminen \nIlmoittaudu mukaan joko paikan päälle tai etänä viimeistään 9.10.2024 täällä >
URL:https://lammasyhdistys.fi/event/finnsheep-paiva-11-10/
END:VEVENT
END:VCALENDAR