BEGIN:VCALENDAR
VERSION:2.0
PRODID:-//Suomen Lammasyhdistys - ECPv6.15.13.1//NONSGML v1.0//EN
CALSCALE:GREGORIAN
METHOD:PUBLISH
X-WR-CALNAME:Suomen Lammasyhdistys
X-ORIGINAL-URL:https://lammasyhdistys.fi
X-WR-CALDESC:Tapahtumat Suomen Lammasyhdistys
REFRESH-INTERVAL;VALUE=DURATION:PT1H
X-Robots-Tag:noindex
X-PUBLISHED-TTL:PT1H
BEGIN:VTIMEZONE
TZID:Europe/Helsinki
BEGIN:DAYLIGHT
TZOFFSETFROM:+0200
TZOFFSETTO:+0300
TZNAME:EEST
DTSTART:20230326T010000
END:DAYLIGHT
BEGIN:STANDARD
TZOFFSETFROM:+0300
TZOFFSETTO:+0200
TZNAME:EET
DTSTART:20231029T010000
END:STANDARD
BEGIN:DAYLIGHT
TZOFFSETFROM:+0200
TZOFFSETTO:+0300
TZNAME:EEST
DTSTART:20240331T010000
END:DAYLIGHT
BEGIN:STANDARD
TZOFFSETFROM:+0300
TZOFFSETTO:+0200
TZNAME:EET
DTSTART:20241027T010000
END:STANDARD
BEGIN:DAYLIGHT
TZOFFSETFROM:+0200
TZOFFSETTO:+0300
TZNAME:EEST
DTSTART:20250330T010000
END:DAYLIGHT
BEGIN:STANDARD
TZOFFSETFROM:+0300
TZOFFSETTO:+0200
TZNAME:EET
DTSTART:20251026T010000
END:STANDARD
END:VTIMEZONE
BEGIN:VEVENT
DTSTART;TZID=Europe/Helsinki:20241029T000000
DTEND;TZID=Europe/Helsinki:20241031T000000
DTSTAMP:20260422T224241
CREATED:20240904T070007Z
LAST-MODIFIED:20240917T154834Z
UID:25261-1730160000-1730332800@lammasyhdistys.fi
SUMMARY:Valtakunnalliset lammaspäivät 29.-31.10.2024\, Hämeenlinna
DESCRIPTION:Valtakunnalliset lammaspäivät 29.-31.10.2024\nPaikka: Scandic Aulanko\, Aulangontie 93\, Hämeenlinna\nIlmoittaudu 14.10.2024 mennessä täällä > \nOhjelma\n29.10.2024 Suomen Lammasyhdistys ry:n syyskokous \n12.00  LOUNAS (omakustanteinen\, 35\,20 €)\n13.00  Kokouksen avaus\, puheenjohtaja Janne Jokela\n13.15  Lampaiden jalostusvaliokunnan ja jalostuslampolakonseptin esittely\n13.30  Lampaat aurinkovoimapuistojen hoitajina –  viranomaisvaatimukset\, MMM\n14.00  Lampaat aurinkovoimapuistojen hoitajina – energiayhtiön näkökulma\, Ilmatar Energy \n14.30 KAHVITAUKO\, SLY tarjoaa kokouskahvit \n15.00  Vuoden lammastilan 2024 palkitseminen ja lampaiden tuotosseurannan parhaat tilat 2023\, kunniakirjojen jako\nn. 15.30 Sääntömääräiset asiat\, § 4\nHallituksen jäsenistä ja varajäsenistä erovuorossa olevat\n– puheenjohtaja sekä\n– edustajat alueilta:\nII: Uusimaa\, Päijät-Häme\, Kymenlaakso\, Etelä-Karjala\nIII: Etelä-Pohjanmaa\, Österbotten\, Keski-Suomi \nn. 17.00 Kokouksen päätös \n30.10.2024 Opintoretki klo 9.30-18.00 \n9.30 Hämeenlinnan rautatieasema\n9.40 Scandic Aulanko\n10.15 Pekkolan tila\, Siri Taalas ja Jani Pekkola\, Hauho. 160 uuhta\, rotuina itäfriisiläinen maitolammas ja risteytyksiä. Koneurakointia. Nurmilajikkeiden testausta tilatasolla. Lampaanmaitotuotteita. pekkolantila.fi  \n12.30 LOUNAS\, Tiirinkosken tila\, Niina Toivonen ja Mikko Launo\, Hämeenlinna. 60 uuhta\, rotuina ruotsalainen turkislammas ja ahvenanmaanlammas. Lisäksi lihanautoja\, kahvilatoimintaa ja suoramyyntiä. Paimenkoirat ja laumanvartijat. tiirinkoskentehdas.fi/maatila/ \n15.45 KAHVIT\, Wetterhoff. Tutustuminen historiaan\, toimintaan ja myymälään. Kädentaitokurssit. wetterhoff.fi  \n17.00 Laidunnusta Hämeen linnan valleilla\, kierros linnan alueella\, Kristiina Liinaharja\, Vekkilän Museotila/Liinaharja Oy ja Auli Hirvonen\, LumoTAITO -hanke.\n18.00 Hotelli (ne\, jotka eivät ole varanneet illallista\, viedään hotellille). \nOpintoretken osallistumismaksu 84 eur + alv 25\,5 % sisältäen bussikuljetuksen\, vierailukäynnit\, lounaan\, kahvin ja suojavaatteet. \n18.30 LAMPURI-ILLALLINEN\nMuseoravintola Hämeen linna \nMenu á 49 eur\n– Pieni karitsatartar ja kuohkeaa kantarellikeittoa\, L\, G\n– Yön yli haudutettua karitsanlapaa\, paahdettua fileetä\, Lopen perunaa sekä kastiketta haudutusliemestä ja ruskitetusta voista\, L\, G\n– Jäätelöä\, rapeaa tattaria\, puolukkamarenkia ja hillottuja puolukoita G \n\n31.10. klo 9.00-15.30 \nEläinaines on pohja tuotannolle -seminaari\n9.00 Seminaarin avaus\n9.15 Eläinjalostuksen tulevaisuus\, Pekka Uimari\, Helsingin yliopisto\n10.00 Lampaan ja vuohen geenivarat Kansallisessa geenivaraohjelmassa\, Juha Kantanen\, Luke\n10.30 Kuulumisia CAP:n alkuperäisrotusopimusten toteutumisesta\, Eero Pehkonen\, maa- ja metsätalousministeriö\n11.00 Rotujen kehitystilastojen esittely Kaie Ahlskog\, ProAgria Etelä-Suomi \n11.30 LOUNAS\n\n12.20 Onnistuneet siemennykset – mallia Islannista\, Eyjólfur Ingvi Bjarnason\, Icelandic Agricultural Advisory Centre\, esitys etänä englanniksi\, tulkataan \n13.00 Eläinten tuonti\, Susanna Nuutinen\, Putkisalon Kartano\n13.30 Eläinaineksen taloudellinen vaikutus\, Sini Sillanpää\, ProAgria Etelä-Pohjanmaa \n14.30 KAHVIT \n14.00 Risteytyksillä tuloksia\, Peppi Laine\, Mikkolan tila\n15.00 Tulokset apuna jalostustyössä – NettiKatras vinkit\, Milla Alanco-Ollqvist\, ProAgria\n15.30 Tilaisuus päättyy \nSeminaarin hinta on 120 eur + alv 25\,5 % sisältäen ohjelman mukaisen koulutuksen\, koulutusmateriaalit ja kokoustarjoilut. Etäosallistumismahdollisuus järjestetään\, hinta 80 eur + alv 25\,5 %. Ilmoittautuneille lähetetään linkki sähköpostilla ennen seminaaria. \n 
URL:https://lammasyhdistys.fi/event/valtakunnalliset-lammaspaivat-29-31-10-2024-hameenlinna/
END:VEVENT
END:VCALENDAR