BEGIN:VCALENDAR
VERSION:2.0
PRODID:-//Suomen Lammasyhdistys - ECPv6.15.13.1//NONSGML v1.0//EN
CALSCALE:GREGORIAN
METHOD:PUBLISH
X-WR-CALNAME:Suomen Lammasyhdistys
X-ORIGINAL-URL:https://lammasyhdistys.fi
X-WR-CALDESC:Tapahtumat Suomen Lammasyhdistys
REFRESH-INTERVAL;VALUE=DURATION:PT1H
X-Robots-Tag:noindex
X-PUBLISHED-TTL:PT1H
BEGIN:VTIMEZONE
TZID:Europe/Helsinki
BEGIN:DAYLIGHT
TZOFFSETFROM:+0200
TZOFFSETTO:+0300
TZNAME:EEST
DTSTART:20250330T010000
END:DAYLIGHT
BEGIN:STANDARD
TZOFFSETFROM:+0300
TZOFFSETTO:+0200
TZNAME:EET
DTSTART:20251026T010000
END:STANDARD
BEGIN:DAYLIGHT
TZOFFSETFROM:+0200
TZOFFSETTO:+0300
TZNAME:EEST
DTSTART:20260329T010000
END:DAYLIGHT
BEGIN:STANDARD
TZOFFSETFROM:+0300
TZOFFSETTO:+0200
TZNAME:EET
DTSTART:20261025T010000
END:STANDARD
BEGIN:DAYLIGHT
TZOFFSETFROM:+0200
TZOFFSETTO:+0300
TZNAME:EEST
DTSTART:20270328T010000
END:DAYLIGHT
BEGIN:STANDARD
TZOFFSETFROM:+0300
TZOFFSETTO:+0200
TZNAME:EET
DTSTART:20271031T010000
END:STANDARD
END:VTIMEZONE
BEGIN:VEVENT
DTSTART;TZID=Europe/Helsinki:20260216T100000
DTEND;TZID=Europe/Helsinki:20260216T120000
DTSTAMP:20260421T174022
CREATED:20260205T102832Z
LAST-MODIFIED:20260205T102832Z
UID:27891-1771236000-1771243200@lammasyhdistys.fi
SUMMARY:Bioturvallisuus – näkymätön uhka -webinaari
DESCRIPTION:Maksuton webinaari käytännön vinkeistä bioturvallisuuden hallintaan 16.2. klo 10 alkaen! Tilaisuus tallennetaan ja julkaistaan ProAgria Itä-Suomen YouTube-kanavalla. \nLuennoimassa terveydenhuoltoeläinlääkäri Seija Perasto\, ProAgria Etelä-Pohjanmaa ja kommenttipuheenvuoro kotieläinasiantuntija Mari Vauhkonen\, ProAgria Itä-Suomi \nTilaisuuden järjestää Maatilan turva- hanke. \nLisätietoja ja ilmoittautuminen >
URL:https://lammasyhdistys.fi/event/bioturvallisuus-nakymaton-uhka-webinaari/
END:VEVENT
END:VCALENDAR