BEGIN:VCALENDAR
VERSION:2.0
PRODID:-//Suomen Lammasyhdistys - ECPv6.15.13.1//NONSGML v1.0//EN
CALSCALE:GREGORIAN
METHOD:PUBLISH
X-WR-CALNAME:Suomen Lammasyhdistys
X-ORIGINAL-URL:https://lammasyhdistys.fi
X-WR-CALDESC:Tapahtumat Suomen Lammasyhdistys
REFRESH-INTERVAL;VALUE=DURATION:PT1H
X-Robots-Tag:noindex
X-PUBLISHED-TTL:PT1H
BEGIN:VTIMEZONE
TZID:Europe/Helsinki
BEGIN:DAYLIGHT
TZOFFSETFROM:+0200
TZOFFSETTO:+0300
TZNAME:EEST
DTSTART:20250330T010000
END:DAYLIGHT
BEGIN:STANDARD
TZOFFSETFROM:+0300
TZOFFSETTO:+0200
TZNAME:EET
DTSTART:20251026T010000
END:STANDARD
BEGIN:DAYLIGHT
TZOFFSETFROM:+0200
TZOFFSETTO:+0300
TZNAME:EEST
DTSTART:20260329T010000
END:DAYLIGHT
BEGIN:STANDARD
TZOFFSETFROM:+0300
TZOFFSETTO:+0200
TZNAME:EET
DTSTART:20261025T010000
END:STANDARD
BEGIN:DAYLIGHT
TZOFFSETFROM:+0200
TZOFFSETTO:+0300
TZNAME:EEST
DTSTART:20270328T010000
END:DAYLIGHT
BEGIN:STANDARD
TZOFFSETFROM:+0300
TZOFFSETTO:+0200
TZNAME:EET
DTSTART:20271031T010000
END:STANDARD
END:VTIMEZONE
BEGIN:VEVENT
DTSTART;TZID=Europe/Helsinki:20260217T123000
DTEND;TZID=Europe/Helsinki:20260217T153000
DTSTAMP:20260421T162352
CREATED:20260213T170657Z
LAST-MODIFIED:20260213T170657Z
UID:27901-1771331400-1771342200@lammasyhdistys.fi
SUMMARY:Webinaari: Lammastuotannon päästöt ja hiililaskentaa
DESCRIPTION:Maatalouden kasvihuonekaasupäästöt ja hiilijalanjälkeä voidaan laskea tilakohtaisesti. Koulutuksessa perehdytään esimerkkien avulla päästöjen lähteisiin ja laskurien käyttöön. Koulutuksen jälkeen voit tehdä omalle tilalle hiilijalanjälkilaskelman. \nKouluttajina toimivat kasvintuotannon asiantuntija Henna Latvala ja lammastuotannon asiantuntija Sini Sillanpää. \nWebinaarin järjestää Menestyvä lammastila- hanke.
URL:https://lammasyhdistys.fi/event/webinaari-lammastuotannon-paastot-ja-hiililaskentaa/
END:VEVENT
END:VCALENDAR