BEGIN:VCALENDAR
VERSION:2.0
PRODID:-//Suomen Lammasyhdistys - ECPv6.15.13.1//NONSGML v1.0//EN
CALSCALE:GREGORIAN
METHOD:PUBLISH
X-ORIGINAL-URL:https://lammasyhdistys.fi
X-WR-CALDESC:Tapahtumat Suomen Lammasyhdistys
REFRESH-INTERVAL;VALUE=DURATION:PT1H
X-Robots-Tag:noindex
X-PUBLISHED-TTL:PT1H
BEGIN:VTIMEZONE
TZID:Europe/Helsinki
BEGIN:DAYLIGHT
TZOFFSETFROM:+0200
TZOFFSETTO:+0300
TZNAME:EEST
DTSTART:20250330T010000
END:DAYLIGHT
BEGIN:STANDARD
TZOFFSETFROM:+0300
TZOFFSETTO:+0200
TZNAME:EET
DTSTART:20251026T010000
END:STANDARD
BEGIN:DAYLIGHT
TZOFFSETFROM:+0200
TZOFFSETTO:+0300
TZNAME:EEST
DTSTART:20260329T010000
END:DAYLIGHT
BEGIN:STANDARD
TZOFFSETFROM:+0300
TZOFFSETTO:+0200
TZNAME:EET
DTSTART:20261025T010000
END:STANDARD
BEGIN:DAYLIGHT
TZOFFSETFROM:+0200
TZOFFSETTO:+0300
TZNAME:EEST
DTSTART:20270328T010000
END:DAYLIGHT
BEGIN:STANDARD
TZOFFSETFROM:+0300
TZOFFSETTO:+0200
TZNAME:EET
DTSTART:20271031T010000
END:STANDARD
END:VTIMEZONE
BEGIN:VEVENT
DTSTART;TZID=Europe/Helsinki:20260428T110000
DTEND;TZID=Europe/Helsinki:20260428T130000
DTSTAMP:20260419T171954
CREATED:20260419T071941Z
LAST-MODIFIED:20260419T071941Z
UID:28014-1777374000-1777381200@lammasyhdistys.fi
SUMMARY:Webinaari: Kestävä lammastalous - käytännön kokemuksia uudistavasta tuotannosta
DESCRIPTION:Webinaarin järjestää Potkua Pohjois-Karjalan lammastalouteen- ja Pellolta pöytään näkyväksi-hankkeet. Hankkeet saavat EU:n maaseuturahoitusta. \nLisätietoja ja ilmoittautuminen >
URL:https://lammasyhdistys.fi/event/webinaari-kestava-lammastalous-kaytannon-kokemuksia-uudistavasta-tuotannosta/
END:VEVENT
END:VCALENDAR