BEGIN:VCALENDAR
VERSION:2.0
PRODID:-//Suomen Lammasyhdistys - ECPv6.15.13.1//NONSGML v1.0//EN
CALSCALE:GREGORIAN
METHOD:PUBLISH
X-ORIGINAL-URL:https://lammasyhdistys.fi
X-WR-CALDESC:Tapahtumat Suomen Lammasyhdistys
REFRESH-INTERVAL;VALUE=DURATION:PT1H
X-Robots-Tag:noindex
X-PUBLISHED-TTL:PT1H
BEGIN:VTIMEZONE
TZID:Europe/Helsinki
BEGIN:DAYLIGHT
TZOFFSETFROM:+0200
TZOFFSETTO:+0300
TZNAME:EEST
DTSTART:20250330T010000
END:DAYLIGHT
BEGIN:STANDARD
TZOFFSETFROM:+0300
TZOFFSETTO:+0200
TZNAME:EET
DTSTART:20251026T010000
END:STANDARD
BEGIN:DAYLIGHT
TZOFFSETFROM:+0200
TZOFFSETTO:+0300
TZNAME:EEST
DTSTART:20260329T010000
END:DAYLIGHT
BEGIN:STANDARD
TZOFFSETFROM:+0300
TZOFFSETTO:+0200
TZNAME:EET
DTSTART:20261025T010000
END:STANDARD
BEGIN:DAYLIGHT
TZOFFSETFROM:+0200
TZOFFSETTO:+0300
TZNAME:EEST
DTSTART:20270328T010000
END:DAYLIGHT
BEGIN:STANDARD
TZOFFSETFROM:+0300
TZOFFSETTO:+0200
TZNAME:EET
DTSTART:20271031T010000
END:STANDARD
END:VTIMEZONE
BEGIN:VEVENT
DTSTART;TZID=Europe/Helsinki:20260507T090000
DTEND;TZID=Europe/Helsinki:20260507T150000
DTSTAMP:20260419T204623
CREATED:20260120T122620Z
LAST-MODIFIED:20260120T122620Z
UID:27874-1778144400-1778166000@lammasyhdistys.fi
SUMMARY:Eläinkuljettajakoulutus; Kaupallisten eläinkuljetusten kuljettajien ja hoitajien koulutus ja koe
DESCRIPTION:Kaupallisissa eläinkuljetuksissa eläinten käsittely kuljetusten aikana ja kuljettaminen edellyttää kouluttautumista. Eläinten kuljettajille ja hoitajille asetettavat vaatimukset vaihtelevat kuljetettavan eläinlajin ja kuljetusmuodon mukaan. Kotieläiminä pidettäviä hevos-\, nauta-\, lammas-\, vuohi- ja sikaeläimiä tai siipikarjaa maantieajoneuvolla kuljetettaessa edellytetään kuljettajilta ja hoitajilta pätevyystodistusta. Muiden eläinlajien kuljettajilta ja hoitajilta edellytetään ainoastaan koulutukseen osallistumista.\nKoulutuspaikkana HAMK Hämeenlinnan korkeakoulukeskus.\nHaku on käynnissä ja päättyy 28.4.2026 23:59 \nLisätietoja ja ilmoittautuminen > \n 
URL:https://lammasyhdistys.fi/event/elainkuljettajakoulutus-kaupallisten-elainkuljetusten-kuljettajien-ja-hoitajien-koulutus-ja-koe-2/
END:VEVENT
END:VCALENDAR