BEGIN:VCALENDAR
VERSION:2.0
PRODID:-//Suomen Lammasyhdistys - ECPv6.15.13.1//NONSGML v1.0//EN
CALSCALE:GREGORIAN
METHOD:PUBLISH
X-ORIGINAL-URL:https://lammasyhdistys.fi
X-WR-CALDESC:Tapahtumat Suomen Lammasyhdistys
REFRESH-INTERVAL;VALUE=DURATION:PT1H
X-Robots-Tag:noindex
X-PUBLISHED-TTL:PT1H
BEGIN:VTIMEZONE
TZID:Europe/Helsinki
BEGIN:DAYLIGHT
TZOFFSETFROM:+0200
TZOFFSETTO:+0300
TZNAME:EEST
DTSTART:20210328T010000
END:DAYLIGHT
BEGIN:STANDARD
TZOFFSETFROM:+0300
TZOFFSETTO:+0200
TZNAME:EET
DTSTART:20211031T010000
END:STANDARD
BEGIN:DAYLIGHT
TZOFFSETFROM:+0200
TZOFFSETTO:+0300
TZNAME:EEST
DTSTART:20220327T010000
END:DAYLIGHT
BEGIN:STANDARD
TZOFFSETFROM:+0300
TZOFFSETTO:+0200
TZNAME:EET
DTSTART:20221030T010000
END:STANDARD
BEGIN:DAYLIGHT
TZOFFSETFROM:+0200
TZOFFSETTO:+0300
TZNAME:EEST
DTSTART:20230326T010000
END:DAYLIGHT
BEGIN:STANDARD
TZOFFSETFROM:+0300
TZOFFSETTO:+0200
TZNAME:EET
DTSTART:20231029T010000
END:STANDARD
END:VTIMEZONE
BEGIN:VEVENT
DTSTART;TZID=Europe/Helsinki:20220825T000000
DTEND;TZID=Europe/Helsinki:20221106T000000
DTSTAMP:20260424T174308
CREATED:20220720T073851Z
LAST-MODIFIED:20220720T074126Z
UID:16925-1661385600-1667692800@lammasyhdistys.fi
SUMMARY:Suomen Keritsijät ry:n kerintäkurssit
DESCRIPTION:Lisätietoja Suomen Keritsijät ry:n kotisivuilla >
URL:https://lammasyhdistys.fi/event/suomen-keritsijat-ryn-kerintakurssit/
END:VEVENT
BEGIN:VEVENT
DTSTART;TZID=Europe/Helsinki:20220825T000000
DTEND;TZID=Europe/Helsinki:20221106T000000
DTSTAMP:20260424T174308
CREATED:20220720T073851Z
LAST-MODIFIED:20220720T073851Z
UID:19047-1661385600-1667692800@lammasyhdistys.fi
SUMMARY:Suomen Keritsijät ry:n kerintäkurssit
DESCRIPTION:Lisätietoja Suomen Keritsijät ry:n kotisivuilla >
URL:https://lammasyhdistys.fi/event/suomen-keritsijat-ryn-kerintakurssit-2/
END:VEVENT
BEGIN:VEVENT
DTSTART;VALUE=DATE:20220910
DTEND;VALUE=DATE:20220911
DTSTAMP:20260424T174308
CREATED:20220620T074201Z
LAST-MODIFIED:20220620T074231Z
UID:12443-1662768000-1662854399@lammasyhdistys.fi
SUMMARY:Lähiruokapäivä 10.9.2022
DESCRIPTION:Valtakunnallista Lähiruokapäivää juhlistetaan jälleen syyskuussa! Kotimainen ruoantuotanto sekä tarinat sen takana kiinnostavat suomalaisia enemmän kuin koskaan ja kaiken lisäksi lähiruoka on trendikästä – lähde siis mukaan lähiruokatrendin aallonharjalle ja Lähiruokapäivään! \nLähiruokapäivän idea pähkinänkuoressa: \n-Valtakunnallinen Lähiruokapäivä järjestetään 10.9.2022Lähiruokapäivään osallistuvat kohteet voivat pitää ns. avoimet ovet\, myydä tuotteitaan sekä järjestää halutessaan vierailijoille oheisohjelmaa – vain mielikuvitus on rajana! \n-Lähiruokapäivään osallistuvat kohteet löytyvät kootusti kartalta osoitteesta lähiruokapäivä.fi \n-Tavoita enemmän ihmisiä\, ota ilo irti Lähiruokapäivän markkinointiponnistuksista\, lisää maaseutumatkailua\, kannata kotimaista lähiruokaa: ilmoittaudu mukaan Lähiruokapäivään! Käy kurkkaamassa lisätiedot osoitteesta www.lahiruokapaiva.fi \n 
URL:https://lammasyhdistys.fi/event/lahiruokapaiva-10-9-2022/
END:VEVENT
BEGIN:VEVENT
DTSTART;VALUE=DATE:20220910
DTEND;VALUE=DATE:20220911
DTSTAMP:20260424T174308
CREATED:20220620T074201Z
LAST-MODIFIED:20220620T074201Z
UID:19044-1662768000-1662854399@lammasyhdistys.fi
SUMMARY:Lähiruokapäivä 10.9.2022
DESCRIPTION:Valtakunnallista Lähiruokapäivää juhlistetaan jälleen syyskuussa! Kotimainen ruoantuotanto sekä tarinat sen takana kiinnostavat suomalaisia enemmän kuin koskaan ja kaiken lisäksi lähiruoka on trendikästä – lähde siis mukaan lähiruokatrendin aallonharjalle ja Lähiruokapäivään! \nLähiruokapäivän idea pähkinänkuoressa: \n-Valtakunnallinen Lähiruokapäivä järjestetään 10.9.2022Lähiruokapäivään osallistuvat kohteet voivat pitää ns. avoimet ovet\, myydä tuotteitaan sekä järjestää halutessaan vierailijoille oheisohjelmaa – vain mielikuvitus on rajana! \n-Lähiruokapäivään osallistuvat kohteet löytyvät kootusti kartalta osoitteesta lähiruokapäivä.fi \n-Tavoita enemmän ihmisiä\, ota ilo irti Lähiruokapäivän markkinointiponnistuksista\, lisää maaseutumatkailua\, kannata kotimaista lähiruokaa: ilmoittaudu mukaan Lähiruokapäivään! Käy kurkkaamassa lisätiedot osoitteesta www.lahiruokapaiva.fi \n 
URL:https://lammasyhdistys.fi/event/lahiruokapaiva-10-9-2022-2/
END:VEVENT
BEGIN:VEVENT
DTSTART;TZID=Europe/Helsinki:20220913T120000
DTEND;TZID=Europe/Helsinki:20220916T231500
DTSTAMP:20260424T174308
CREATED:20220706T142341Z
LAST-MODIFIED:20220706T142551Z
UID:12672-1663070400-1663370100@lammasyhdistys.fi
SUMMARY:Villainen opintomatka Norjaan 13.-16.9.2022
DESCRIPTION:Tervetuloa villaiselle opintomatkalle Norjaan  13.-16.9.2022! \nVierailemme muun muassa kahdella kehräämöllä (Oslo Mikrospinneri ja Telespinn)\, Norilian villankeruuasemalla\nGolissa sekä tutustumme kahteen lammastilaan.\nVierailemme myös Raulandsakademietiin Telemarkissa ja käymme\nNorjan vanhimmassa sauvakirkossa Heddalissa. \nKatso tarkempi ohjelma täältä > \nMatka on tarkoitettu ensisijaisesti VILLA-hankkeen hankealueen (Varsinais-Suomen\, Pirkanmaan\, Etelä-Pohjanmaan ja Pohjanmaan Ely-keskusten alueet) lampureille\, joiden matkaa hanke tukee. Mukaan voi tulla hankealueen ulkopuolisia lampureita ja hanketoimijoita maksamalla koko matkan hinnan. Matkalle mahtuu mukaan 25 henkeä. \nMatkan kokonaishinta hankealueen lammastalousyrittäjille on 660 euroa per henkilö. Hinta sisältää ruokailupaketin ( 210 euroa). Muille osallistujille matkan kokonaishinta on 1110 euroa (sis. ruokailupaketin 210 euroa). \nHintaan sisältyy:\nlennot Helsinki – Oslo ja Oslo – Helsinki (sis. ruumalaukku 23 kg)\nbussikuljetuksen Norjassa\nkehräämö- ja tilavierailut sekä opastuksen\nmajoitukset keskitason hotelleissa 2hh huoneessa. 1 hengen huoneita saatavilla rajoitetusti lisämaksusta 195 euroa\n4 x lounaan sekä 1x päivällisen. Muut ruokailut omakustanteisia \nMatkan hinta ei sisällä matkavakuutusta. Suosittelemme osallistujille matkavakuutusta\, joka kattaa mahdollisesta matkan peruuntumisesta aiheutuvia kuluja esimerkiksi sairastumistapauksessa. Matkavakuutuksen hankkiminen on jokaisen omalla vastuulla. \nNorjan hallitus purki kaikki koronarajoitukset 12.2.2022. Maakohtaiset määräykset saattavat muuttua ennen matkaa. Huolehdithan\, että matkustukseen liittyvät mahdolliset vaatimukset täyttyvät mm. koronapassivaatimusten osalta. \nSitovat ilmoittautumiset viimeistään 4.8.2022. Huom! Kirjoita koko nimesi\, kuten se lukee passissasi tai henkilökortissasi.\nOsallistumismaksu laskutetaan ennakkoon 7.8.2022 mennessä.\nHinnat perustuvat 1.7.2022 voimassa olleisiin hintatietoihin. Niiden muuttuessa oleellisesti pidätämme oikeuden vastaaviin hinnanmuutoksiin. \nLisätiedot:\nAnu Pentti\npuh.041  731 3590\nanu.pentti@proagria.fi \nJärjestäjänä VILLA-hanke\nTapahtuman tiedot täällä > \n 
URL:https://lammasyhdistys.fi/event/villainen-opintomatka-norjaan-13-16-9-2022/
END:VEVENT
BEGIN:VEVENT
DTSTART;TZID=Europe/Helsinki:20220913T120000
DTEND;TZID=Europe/Helsinki:20220916T231500
DTSTAMP:20260424T174308
CREATED:20220706T142341Z
LAST-MODIFIED:20220706T142341Z
UID:19046-1663070400-1663370100@lammasyhdistys.fi
SUMMARY:Villainen opintomatka Norjaan 13.-16.9.2022
DESCRIPTION:Tervetuloa villaiselle opintomatkalle Norjaan  13.-16.9.2022! \nVierailemme muun muassa kahdella kehräämöllä (Oslo Mikrospinneri ja Telespinn)\, Norilian villankeruuasemalla\nGolissa sekä tutustumme kahteen lammastilaan.\nVierailemme myös Raulandsakademietiin Telemarkissa ja käymme\nNorjan vanhimmassa sauvakirkossa Heddalissa. \nKatso tarkempi ohjelma täältä > \nMatka on tarkoitettu ensisijaisesti VILLA-hankkeen hankealueen (Varsinais-Suomen\, Pirkanmaan\, Etelä-Pohjanmaan ja Pohjanmaan Ely-keskusten alueet) lampureille\, joiden matkaa hanke tukee. Mukaan voi tulla hankealueen ulkopuolisia lampureita ja hanketoimijoita maksamalla koko matkan hinnan. Matkalle mahtuu mukaan 25 henkeä. \nMatkan kokonaishinta hankealueen lammastalousyrittäjille on 660 euroa per henkilö. Hinta sisältää ruokailupaketin ( 210 euroa). Muille osallistujille matkan kokonaishinta on 1110 euroa (sis. ruokailupaketin 210 euroa). \nHintaan sisältyy:\nlennot Helsinki – Oslo ja Oslo – Helsinki (sis. ruumalaukku 23 kg)\nbussikuljetuksen Norjassa\nkehräämö- ja tilavierailut sekä opastuksen\nmajoitukset keskitason hotelleissa 2hh huoneessa. 1 hengen huoneita saatavilla rajoitetusti lisämaksusta 195 euroa\n4 x lounaan sekä 1x päivällisen. Muut ruokailut omakustanteisia \nMatkan hinta ei sisällä matkavakuutusta. Suosittelemme osallistujille matkavakuutusta\, joka kattaa mahdollisesta matkan peruuntumisesta aiheutuvia kuluja esimerkiksi sairastumistapauksessa. Matkavakuutuksen hankkiminen on jokaisen omalla vastuulla. \nNorjan hallitus purki kaikki koronarajoitukset 12.2.2022. Maakohtaiset määräykset saattavat muuttua ennen matkaa. Huolehdithan\, että matkustukseen liittyvät mahdolliset vaatimukset täyttyvät mm. koronapassivaatimusten osalta. \nSitovat ilmoittautumiset viimeistään 4.8.2022. Huom! Kirjoita koko nimesi\, kuten se lukee passissasi tai henkilökortissasi.\nOsallistumismaksu laskutetaan ennakkoon 7.8.2022 mennessä.\nHinnat perustuvat 1.7.2022 voimassa olleisiin hintatietoihin. Niiden muuttuessa oleellisesti pidätämme oikeuden vastaaviin hinnanmuutoksiin. \nLisätiedot:\nAnu Pentti\npuh.041  731 3590\nanu.pentti@proagria.fi \nJärjestäjänä VILLA-hanke\nTapahtuman tiedot täällä > \n 
URL:https://lammasyhdistys.fi/event/villainen-opintomatka-norjaan-13-16-9-2022-2/
END:VEVENT
BEGIN:VEVENT
DTSTART;TZID=Europe/Helsinki:20220915T090000
DTEND;TZID=Europe/Helsinki:20220915T170000
DTSTAMP:20260424T174308
CREATED:20220816T120528Z
LAST-MODIFIED:20220816T120528Z
UID:19051-1663232400-1663261200@lammasyhdistys.fi
SUMMARY:Kaupallisten eläinkuljetusten kuljettajien ja hoitajien koulutus ja koe
DESCRIPTION:HAMK Up\nLuonnonvara-alan täydennyskoulutus järjestää koulutuksen ja kokeen\n15.09.2022\nKoulutus klo 9 – 15.15 ja koe klo 15.30. Koekysymykset ovat suomeksi\, englanniksi ja venäjäksi. \nLinkki lisätietoihin ja ilmoittautumiseen > koulutus ja koe \nhttps://www.hamk.fi/koulutus/2022/hamk/elainkuljettajakoulutus-kaupallisten-elainkuljetusten-kuljettajien-ja-hoitajien-koulutus-ja-koe-15-9-2022/ \nLinkki lisätietoihin ja ilmoittautumiseen > vain koe \nhttps://www.hamk.fi/koulutus/2023/hamk/elainkuljettajakoulutus-kaupallisten-elainkuljetusten-kuljettajien-ja-hoitajien-koe-15-9-2022/ \nTerveisin\nSari Mantila\nHAMK Up\nLuonnonvara-alan täydennyskoulutus\npuh. 050 359 4313 \nwww.hamk.fi/hamk-up-jatkuva-oppiminen/luonnonvara-ala/
URL:https://lammasyhdistys.fi/event/kaupallisten-elainkuljetusten-kuljettajien-ja-hoitajien-koulutus-ja-koe/
END:VEVENT
BEGIN:VEVENT
DTSTART;TZID=Europe/Helsinki:20220916T120000
DTEND;TZID=Europe/Helsinki:20220916T180000
DTSTAMP:20260424T174308
CREATED:20220805T112140Z
LAST-MODIFIED:20220805T112140Z
UID:19049-1663329600-1663351200@lammasyhdistys.fi
SUMMARY:Osta pässi -viikot ja pässihuutokauppa 16.9.2022\, etänä
DESCRIPTION:Tervetuloa ostamaan ja myymään jalostuseläimiä! Tapahtumaviikkojen ohjelmassa on myös jalostuseläinseminaari. \nAikataulu \n4.9.2022 mennessä ilmoita myytävien pässien tiedot lammasnetti.fi-sivustolle \n5.9.2022 alkaen julkaistaan pässien kuvat ja tiedot samaisessa paikassa\, ja ne ovat esillä huutokauppaan asti. Mikäli pässiä ei myydä huutokaupassa\, ilmoitus on julkaistuna siihen asti\, kun saamme omistajalta ilmoituksen myynnistä. Ilmoita lisätietoja kohdassa osallistuuko pässi huutokauppaan. \n16.9.2022 klo 12-14.30 LAMMASJALOSTUSSEMINAARI etänä \n16.9.2022 klo 15.00 alkaen PÄSSIHUUTOKAUPPA etänä \nPässit ilmoitetaan suoraan lammasnettiin tai lammasasiantuntijoiden kautta.\nYhteyshenkilö merja.hietamaki@proagria.fi \nLue lisää > ProAgrian sivuilta
URL:https://lammasyhdistys.fi/event/osta-passi-viikot-ja-passihuutokauppa-16-9-2022-etana/
END:VEVENT
BEGIN:VEVENT
DTSTART;TZID=Europe/Helsinki:20220917T000000
DTEND;TZID=Europe/Helsinki:20221002T000000
DTSTAMP:20260424T174308
CREATED:20220808T150923Z
LAST-MODIFIED:20220808T150923Z
UID:19050-1663372800-1664668800@lammasyhdistys.fi
SUMMARY:Villaviikot 25.9.-2.10.2022
DESCRIPTION:Villaviikot 25.9.-2.10.2022\nTapahtumat\nPäätapahtuma Helsingissä Narinkkatorilla 25.9.2022 klo 11-16\nNarinkkatorin tapahtuman Fb-sivulle tästä > \nKehruukurssi su 25.9.22 Klo 11-15\, Nihtilän tila\, Kuhmoinen\nKehruukurssilla opettelemme kehräämään lampaanvillasta villalankaa perinnerukeilla. Maksimissaan 7 kehrääjää mahtuu kurssille. Ilmoittautuminen viim.18.9 ja peruutus viimeistään 24.9. Kurssin ohjaa Joanna Lundahl ja kurssin hinta 50€ (sisältäen rukin lainan\, villan\, lounas +kahvi).\nhttps://facebook.com/events/s/kehruu-kurssi/457182872526427/ \nOhjeita osallistujalle\nTapahtumaviikon aikana 25.9.-2.10. paikalliset toimijat järjestävät erilaisia villa-aiheisia tapahtumia ja tempauksia eri puolilla Suomea. \nJos haluat oman tapahtumasi Villaviikon sivulle > sekä SLY:n tapahtumakalenteriin\, ota yhteyttä yhdistyksen verkkovastaavaan:\neila.pennanen@lammasyhdistys.fi \nSuomen Lammasyhdistys ry ja Uudenmaan Lampurit ry järjestävät jälleen Villaviikon (25.9.-2.10.2022) päätapahtuman sunnuntaina 25.9. klo 11-16 Narinkkatorilla Helsingissä. \nKaikki kotimaisen lampaanvillan kanssa toimijat ovat tervetulleita myymään tuotteitaan tai esittelemään yritystään/hankettaan tapahtumaan. Tapahtumassa saa myydä ainoastaan kotimaista lampaanvillaa ja -nahkaa/-taljoja sekä niistä valmistettuja tuotteita. \nMyyntipaikat ovat ilmaisia SLY:n ja/tai Uudenmaan Lampureiden jäsenille. Myyntipaikan hinta myyjälle\, joka ei ole kummankaan yhdistyksen jäsen\, on 60 euroa. \nIlmoittautumiset ja tiedustelut sähköpostitse villaviikko@gmail.com tai puhelimitse 040 738 1371/Mikko Idlax. \nTapahtuman FB-sivu löytyy: https://www.facebook.com/events/603205777911326. Tapahtuman tietoihin päivitetään mukaan kaikki osallistujat sitä mukaa\, kun ne varmistuvat. Tapahtumaa mainostetaan somessa\, medialle lähetettävässä tiedotteessa sekä erilaisilla tapahtumasivustoilla. \nKansallisen Villaviikon (25.9.-2.10.) ideana on\, että paikalliset toimijat järjestävät erilaisia villa-aiheisia tapahtumia ja tempauksia eri puolilla Suomea. Eli jos ette pääse/halua mukaan Helsingin Villapäivään\, voitte järjestää jonkun infotempauksen tai esim. avoimet ovet omalla toimipisteellänne. \nJos haluatte omat tapahtumanne SLY:n kalenteriin ja Villaviikot-sivulle https://lammasyhdistys.fi/villaviikot-25-9-2-10-2022/\, ottakaa yhteyttä Eila Pennaseen: eila.pennanen@lammasyhdistys.fi \nIlmoittakaa myös\, jos teette tapahtumallenne FB-sivun\, niin jaamme sitä myös SLY:n somekanavissa.
URL:https://lammasyhdistys.fi/event/villaviikot-25-9-2-10-2022/
END:VEVENT
BEGIN:VEVENT
DTSTART;TZID=Europe/Helsinki:20220925T110000
DTEND;TZID=Europe/Helsinki:20220925T160000
DTSTAMP:20260424T174308
CREATED:20220920T180458Z
LAST-MODIFIED:20220920T180458Z
UID:19053-1664103600-1664121600@lammasyhdistys.fi
SUMMARY:Villapäivä Narinkkatorilla 25.9. klo 11-16\, Helsinki
DESCRIPTION:  \nSuomen Lammasyhdistys ry ja Uudenmaan Lampurit ry järjestävät jälleen Villaviikon (25.9.-2.10.2022) päätapahtuman sunnuntaina 25.9. klo 11-16 Narinkkatorilla Helsingissä. Luvassa on suomalaisen villan tarina aina lampaista ja kerinnästä valmiisiin käsitöihin ja tuotteisiin. Tapahtumaan osallistuvien luettelo alla\, luetteloa päivitetään tapahtuman alkuun asti. \nOsallistujat \nAurinkovilla (villakäsityöt) \nHanna´s Handmade (villakäsityöt) \nHerrakunnan Lammas (langat\, taljat\, sukat) \nIdlax Gård (lampaat) \nIsokummun Kehräämö (langat) \nJalovilla (käsinvärjätty lanka) \nKaniina-crafts/Textilstudio (itsevärjätyt pipot ja asusteet) \nKom Kom Ky (villakäsityöt) \nKoivukorven Tila   (värjätyt langat) \nProAgria (villahanke) \nSeppälän lammastila (villalangat\, neuleet\, huovutetut tuotteet\, taljat ja taljatuotteet) \nSLY \nSuomalainen villa (villakirja\, villatietokilpailu\, livesometus) \nSuomen Keritsijät ry  (kerintänäytös kerran tunnissa) \nVilla Bergdal (langat\, käsityöt\, myöskin yhteistyökumppanien tuotteita) \nVärjärikilta ry (värjäysnäytökset) \n  \n 
URL:https://lammasyhdistys.fi/event/villapaiva-narinkkatorilla-25-9-klo-11-16-helsinki/
END:VEVENT
END:VCALENDAR