BEGIN:VCALENDAR
VERSION:2.0
PRODID:-//Suomen Lammasyhdistys - ECPv6.15.13.1//NONSGML v1.0//EN
CALSCALE:GREGORIAN
METHOD:PUBLISH
X-WR-CALNAME:Suomen Lammasyhdistys
X-ORIGINAL-URL:https://lammasyhdistys.fi
X-WR-CALDESC:Tapahtumat Suomen Lammasyhdistys
REFRESH-INTERVAL;VALUE=DURATION:PT1H
X-Robots-Tag:noindex
X-PUBLISHED-TTL:PT1H
BEGIN:VTIMEZONE
TZID:Europe/Helsinki
BEGIN:DAYLIGHT
TZOFFSETFROM:+0200
TZOFFSETTO:+0300
TZNAME:EEST
DTSTART:20210328T010000
END:DAYLIGHT
BEGIN:STANDARD
TZOFFSETFROM:+0300
TZOFFSETTO:+0200
TZNAME:EET
DTSTART:20211031T010000
END:STANDARD
BEGIN:DAYLIGHT
TZOFFSETFROM:+0200
TZOFFSETTO:+0300
TZNAME:EEST
DTSTART:20220327T010000
END:DAYLIGHT
BEGIN:STANDARD
TZOFFSETFROM:+0300
TZOFFSETTO:+0200
TZNAME:EET
DTSTART:20221030T010000
END:STANDARD
BEGIN:DAYLIGHT
TZOFFSETFROM:+0200
TZOFFSETTO:+0300
TZNAME:EEST
DTSTART:20230326T010000
END:DAYLIGHT
BEGIN:STANDARD
TZOFFSETFROM:+0300
TZOFFSETTO:+0200
TZNAME:EET
DTSTART:20231029T010000
END:STANDARD
END:VTIMEZONE
BEGIN:VEVENT
DTSTART;TZID=Europe/Helsinki:20220825T000000
DTEND;TZID=Europe/Helsinki:20221106T000000
DTSTAMP:20260424T140520
CREATED:20220720T073851Z
LAST-MODIFIED:20220720T074126Z
UID:16925-1661385600-1667692800@lammasyhdistys.fi
SUMMARY:Suomen Keritsijät ry:n kerintäkurssit
DESCRIPTION:Lisätietoja Suomen Keritsijät ry:n kotisivuilla >
URL:https://lammasyhdistys.fi/event/suomen-keritsijat-ryn-kerintakurssit/
END:VEVENT
BEGIN:VEVENT
DTSTART;TZID=Europe/Helsinki:20220825T000000
DTEND;TZID=Europe/Helsinki:20221106T000000
DTSTAMP:20260424T140520
CREATED:20220720T073851Z
LAST-MODIFIED:20220720T073851Z
UID:19047-1661385600-1667692800@lammasyhdistys.fi
SUMMARY:Suomen Keritsijät ry:n kerintäkurssit
DESCRIPTION:Lisätietoja Suomen Keritsijät ry:n kotisivuilla >
URL:https://lammasyhdistys.fi/event/suomen-keritsijat-ryn-kerintakurssit-2/
END:VEVENT
BEGIN:VEVENT
DTSTART;TZID=Europe/Helsinki:20221103T150000
DTEND;TZID=Europe/Helsinki:20221103T180000
DTSTAMP:20260424T140520
CREATED:20221030T085259Z
LAST-MODIFIED:20221030T085344Z
UID:19769-1667487600-1667498400@lammasyhdistys.fi
SUMMARY:VILLA-päivä Lapuan Kankureilla 3.11.2022
DESCRIPTION:VILLA-päivä Lapuan Kankureilla 3.11.2022 klo 15-18 \nPääsemme kehräämökierrokselle ja tutustumaan villan vastaanottopisteelle Lapuan Kankureiden toimitiloihin\, toimitusjohtaja Esko Hjeltin johdolla. \nVastaanottopisteellä pääset näkemään\, miten lajitellaan aiemmin kerittyjä\, varastossa olleita villoja\, ProAgrian lammasasiantuntija Sini Sillanpään johdolla. Esko Hjelt kertoo heidän yrityksensä näkökulmista villan laatuun ja lajitteluun. \nKehräämökierroksen päätteeksi juomme kahvit ja saamme kuulla Villa-hankkeen Norjan matkalta kuulumisia. \nOsallistumismaksu 20 eur./hlö (sis. alv.).\nIlmoittautumiset viimeistään 31.10.2022 \nOsallistumismaksu 20e + alv. \nTilaisuuden järjestää Suomalainen villa hyötykäyttöön\, VILLA-hanke. \nNostetaan yhdessä VILLA villan paikalle\, koko tuotantoketjua kehittämällä! \nLue lisää ja ilmoittaudu tästä  > \n  \n 
URL:https://lammasyhdistys.fi/event/villa-paiva-lapuan-kankureilla-3-11-2022/
END:VEVENT
BEGIN:VEVENT
DTSTART;TZID=Europe/Helsinki:20221104T100000
DTEND;TZID=Europe/Helsinki:20221104T160000
DTSTAMP:20260424T140520
CREATED:20221022T070722Z
LAST-MODIFIED:20221022T070722Z
UID:19670-1667556000-1667577600@lammasyhdistys.fi
SUMMARY:VILLA-seminaari 4.11.2022\, Hämeenlinna
DESCRIPTION:Tervetuloa VILLA-seminaariin Wetterhoffin taloon Hämeenlinnaan keskustelemaan suomalaisen villan upeasta tulevaisuudesta! \nVierailemme Tekstiiliverstaalla Hamkin kampuksella. Kuulemme Kehräämö Mustalampaan\, Saimas Spinneryn ja VILLA-hankkeen yhteistyöyritysten puheenvuorot suomalaisesta villasta. \nPäivässä kuulemme myös muita esintyjiä. Esiintyjät tarkentuvat pikapuoliin. Seuraa ilmoittelua! \nLisäksi esittelemme VILLA-hankkeessa kehitetyn Suomalaisen villan luokittelujärjestelmän. Ohjelmassa on myös Wool Testing Authorityn villa-analyysien tulkitseminen. \nSeminaarin osallistumismaksu 45 euroa (+alv 24%) Kahvitarjoilu kuuluu hintaan. Lounas on omakustanteinen. \nLue lisää >
URL:https://lammasyhdistys.fi/event/villa-seminaari-4-11-2022-hameenlinna/
END:VEVENT
BEGIN:VEVENT
DTSTART;TZID=Europe/Helsinki:20221108T000000
DTEND;TZID=Europe/Helsinki:20221110T000000
DTSTAMP:20260424T140520
CREATED:20220724T110140Z
LAST-MODIFIED:20221013T055951Z
UID:16962-1667865600-1668038400@lammasyhdistys.fi
SUMMARY:Valtakunnalliset lammaspäivät 8.-10.11.2022\, Jämsä
DESCRIPTION:Syksyn Valtakunnalliset lammaspäivät järjestetään 8.-10.11.2022 Jämsän seudulla.\nPaikkana Himos Hotelli\, Säyryläntie 445\, 42100 Jämsä. \n8.11. OPINTORETKI\n12.10 Jämsän juna-asema \n12.20 Himos Hotelli \n12.35 Seppälän tila\, Seppälä Mari ja Antti \n13.50 Lounas\, Patalahden Liikenneasema \n15.00 Pirtin Kehräämö\, Jämsän toimipiste. Toiminnan esittely\, toimitusjohtaja Päivi Hämäläinen \nKahvit Kehräämöllä \n16.45 Ala-Katteluksen tila\, Laivanen Niina ja Markku \n18.00 Hotelli ja tarvittaessa juna-asema \n19.00 Lampureiden illanvietto ja iltapala rantasaunalla. Kutsujana Keski-Suomen Lampurit ry.\nRuokailu Ravintola Liiterissä hinta 25 eur/hlö. Saa maksaa paikanpäällä. \nOpintoretken hinta 70 eur + alv 24 %. \n9.11. LIHAKETJU TOIMIVAKSI  ja TULEVAN OHJELMAKAUDEN MUUTOKSET -SEMINAARI\,\npaikkana Kokouskeskus Koulu \n9.00 Seminaarin avaus ProAgria \nToimijana lammasketjussa puheenvuorot\n9.10 Lampuri Eemeli Piesala\, Piesalan tila\, Petäjävesi \n9.50 Lihatukku\, tj. Arto Pajukko\, Reinin Liha Oy \n10.30 Kauppa\, myyntipäällikkö Juha Nieminen\, S-ryhmä \n11.15 Lammaslaidun tutkimushankkeen esittely\, Eeva Mustonen\, ELTDK \n11.45 Lounas \n12.30 Katsaus tulevaan EU-tuki -ohjelmakauten\, Etelä-Pohjanmaan ELY-keskus \n13.45 Kahvitauko \nEdellinen aihe jatkuu \n16.00 Koulutus päättyy \nKoulutuksen hinta eur 110 + alv 24 %. Etäosallistuminen 80 eur + alv 24%. \n19.30 LAMPURI-ILLALLINEN\, Ravintola Liiteri. Hinta 45 eur.\nMenu\nAlkupalaksi: Cheddarsalaattia Jukolan juustolan cheddarjuustosta\, sienisalaattia\, savukala-perunasalaattia\, riistacaesar salaattia\, pikkelöityjä syysjuureksia\, mustaherukkasilliä\, suolakurkkuja sekä leipää ja levitettä.\nPääruuaksi: Vanha-Savelan tilan Highlanderhärkä-punajuuripaistosta\, Seppälän maatilan ylikypsää karitsaa timjami-valkosipulikastikkeessa\, kuminaperunaa\, vuolukermassa haudutettua hapankaalia\, paahdettua palsternakkaa\, porkkanaa ja aurajuustoa.\nJälkiruuaksi: Omenastruudelia\, vaniljakastiketta. Tummapaahtokahvia/teetä. \n10.11. SUOMEN LAMMASYHDISTYKSEN SYYSKOKOUS \n9.00 Kokouksen avaus\, puheenjohtaja Janne Jokela\n9.15 Uuden ohjelmakauden maisematuet\n10.00 Hyvät laidunnuskäytännöt\, väitöskirjatutkija Aino Pietikäinen\, Graze-Wel -tutkimushanke\, Helsingin yliopisto \n10.45 Lounas\, omakustanteinen\, hinta 17\,50 € \n11.30 Kokous jatkuu\nVuoden Lammastilan 2022 palkitseminen\nLampaiden tuotosseurannan parhaat tilat 2021\, kunniakirjojen jako \n12.00 Sääntömääräiset asiat\, §4\nHallituksen jäsenistä ja varajäsenistä erovuorossa ovat edustajat alueilta: \nIV: Pohjois- ja Etelä-Savo\, Pohjois-Karjala\nV: Pohjois-Pohjanmaa\, Kainuu\, Keski-Pohjanmaa \nKahvitauko n. klo 13.00\, SLY tarjoaa kokouskahvit \nILMOITTAUTUMINEN 24.10. mennessä ProAgrian sivuilla >
URL:https://lammasyhdistys.fi/event/valtakunnalliset-lammaspaivat-8-10-11-2022-jamsa/
END:VEVENT
END:VCALENDAR