BEGIN:VCALENDAR
VERSION:2.0
PRODID:-//Suomen Lammasyhdistys - ECPv6.15.13.1//NONSGML v1.0//EN
CALSCALE:GREGORIAN
METHOD:PUBLISH
X-WR-CALNAME:Suomen Lammasyhdistys
X-ORIGINAL-URL:https://lammasyhdistys.fi
X-WR-CALDESC:Tapahtumat Suomen Lammasyhdistys
REFRESH-INTERVAL;VALUE=DURATION:PT1H
X-Robots-Tag:noindex
X-PUBLISHED-TTL:PT1H
BEGIN:VTIMEZONE
TZID:Europe/Helsinki
BEGIN:DAYLIGHT
TZOFFSETFROM:+0200
TZOFFSETTO:+0300
TZNAME:EEST
DTSTART:20220327T010000
END:DAYLIGHT
BEGIN:STANDARD
TZOFFSETFROM:+0300
TZOFFSETTO:+0200
TZNAME:EET
DTSTART:20221030T010000
END:STANDARD
BEGIN:DAYLIGHT
TZOFFSETFROM:+0200
TZOFFSETTO:+0300
TZNAME:EEST
DTSTART:20230326T010000
END:DAYLIGHT
BEGIN:STANDARD
TZOFFSETFROM:+0300
TZOFFSETTO:+0200
TZNAME:EET
DTSTART:20231029T010000
END:STANDARD
BEGIN:DAYLIGHT
TZOFFSETFROM:+0200
TZOFFSETTO:+0300
TZNAME:EEST
DTSTART:20240331T010000
END:DAYLIGHT
BEGIN:STANDARD
TZOFFSETFROM:+0300
TZOFFSETTO:+0200
TZNAME:EET
DTSTART:20241027T010000
END:STANDARD
END:VTIMEZONE
BEGIN:VEVENT
DTSTART;TZID=Europe/Helsinki:20230428T000000
DTEND;TZID=Europe/Helsinki:20230503T000000
DTSTAMP:20260424T054530
CREATED:20230126T115634Z
LAST-MODIFIED:20230416T150300Z
UID:20368-1682640000-1683072000@lammasyhdistys.fi
SUMMARY:EWA 3th study tour in Finland 28.4.-3.5.2023
DESCRIPTION:EWA 3th study tour in Finland 28.4.-3.5.2023 \nSievi and Kannus \nWe welcome you to the next study trip to Finland! \nFinally\, program for 3rd study tour is ready. Registration is open now\nhttps://form.jotform.com/222595426832360\n\nWe look forward to meet you in the spring.\nRemember also very interesting fleece competition and auction.\n\nPlease open the program in pdf format here > \n3. EWA-opintomatka Suomessa 28.4.-3-5.2023 \n\n\nOhjelma suomeksi tästä > \nIlmoittautumiseen tästä > \n 
URL:https://lammasyhdistys.fi/event/ewa-3th-study-tour-in-finland-28-4-3-5-2023/
END:VEVENT
BEGIN:VEVENT
DTSTART;TZID=Europe/Helsinki:20230524T120000
DTEND;TZID=Europe/Helsinki:20230524T143000
DTSTAMP:20260424T054530
CREATED:20230513T094431Z
LAST-MODIFIED:20230513T094431Z
UID:20810-1684929600-1684938600@lammasyhdistys.fi
SUMMARY:Lammaslaidun tapaaminen 24.5. Orimattilassa
DESCRIPTION:Tervetuloa Moisanderin tilalle 24.5!\nKuulemme ajankohtaista asiaa ja kokemuksia laiduntamisesta ja laidunnurmista. \nOhjelma: \n12.00 Tilaisuuden avaus\, Marja Jalo\, kotieläinasiantuntija \n12.05 Tilan esittely ja kokemuksia tilan monipuolisista nurmista\, Hannele Moisander \n12.35 Nurmikasvit ja seokset\, Henna Aapro\, nurmiasiantuntija \n13.05 Laiduntaminen ja laidunkierto\, Marja Jalo\, kotieläinasiantuntija \n13.30 Maatalousluonnon ja maiseman hoito -ympäristösopimuksen uudistuksista\, mm. uusista aitaamis- ja peruskunnostustoimenpiteistä ja tuen hakemisesta. Auli Hirvonen\, maisema-asiantuntija \n14.00 Kahvi \n14.30 Tutustuminen tilan nurmikasvustoihin \nIlmoittaudu tästä > \nTapahtuma on maksuton \nTapahtuman järjestää ProAgria Etelä-Suomi\, ELINA II- hanke ja Lumotaito-hanke
URL:https://lammasyhdistys.fi/event/lammaslaidun-tapaaminen-24-5-orimattilassa/
END:VEVENT
BEGIN:VEVENT
DTSTART;TZID=Europe/Helsinki:20230529T100000
DTEND;TZID=Europe/Helsinki:20230529T130000
DTSTAMP:20260424T054530
CREATED:20230517T115746Z
LAST-MODIFIED:20230517T115923Z
UID:20904-1685354400-1685365200@lammasyhdistys.fi
SUMMARY:Willatus-hankkeen loppuseminaari 29.5.2023 Mikkelissä\, myös etäosallistumismahdollisuus
DESCRIPTION:Tiedoksi Willatus-hankkeen loppuseminaari 29.5.2023 klo 10-13 Mikkelissä kaikille lampaanvillan villakuitujen\, villarasvan ja keratiinin käyttömahdollisuuksista kiinnostuneille. Osallistua voi joko paikan päällä Mikkelissä tai etänä Teamsin kautta. \nRekisteröityminen viimeistään ke 24.5. klo 18 tapahtumasivulta löytyvän linkin kautta: https://fb.me/e/2BSjwMtea \n 
URL:https://lammasyhdistys.fi/event/willatus-hankkeen-loppuseminaari-29-5-2023-mikkelissa-myos-etaosallistumismahdollisuus/
END:VEVENT
END:VCALENDAR