BEGIN:VCALENDAR
VERSION:2.0
PRODID:-//Suomen Lammasyhdistys - ECPv6.15.13.1//NONSGML v1.0//EN
CALSCALE:GREGORIAN
METHOD:PUBLISH
X-ORIGINAL-URL:https://lammasyhdistys.fi
X-WR-CALDESC:Tapahtumat Suomen Lammasyhdistys
REFRESH-INTERVAL;VALUE=DURATION:PT1H
X-Robots-Tag:noindex
X-PUBLISHED-TTL:PT1H
BEGIN:VTIMEZONE
TZID:Europe/Helsinki
BEGIN:DAYLIGHT
TZOFFSETFROM:+0200
TZOFFSETTO:+0300
TZNAME:EEST
DTSTART:20220327T010000
END:DAYLIGHT
BEGIN:STANDARD
TZOFFSETFROM:+0300
TZOFFSETTO:+0200
TZNAME:EET
DTSTART:20221030T010000
END:STANDARD
BEGIN:DAYLIGHT
TZOFFSETFROM:+0200
TZOFFSETTO:+0300
TZNAME:EEST
DTSTART:20230326T010000
END:DAYLIGHT
BEGIN:STANDARD
TZOFFSETFROM:+0300
TZOFFSETTO:+0200
TZNAME:EET
DTSTART:20231029T010000
END:STANDARD
BEGIN:DAYLIGHT
TZOFFSETFROM:+0200
TZOFFSETTO:+0300
TZNAME:EEST
DTSTART:20240331T010000
END:DAYLIGHT
BEGIN:STANDARD
TZOFFSETFROM:+0300
TZOFFSETTO:+0200
TZNAME:EET
DTSTART:20241027T010000
END:STANDARD
END:VTIMEZONE
BEGIN:VEVENT
DTSTART;VALUE=DATE:20230617
DTEND;VALUE=DATE:20230618
DTSTAMP:20260424T021553
CREATED:20230612T195241Z
LAST-MODIFIED:20230612T195241Z
UID:21278-1686960000-1687046399@lammasyhdistys.fi
SUMMARY:Luonnonlaidunpäivä 17.6.2023
DESCRIPTION:Luonnonlaidunpäivää vietetään vuosittain juhannusta edeltävänä lauantaina (17.6.2023) ja silloin juhlitaan luonnonlaitumia ja niiden hoitajia – laiduntavia eläimiä. Tilat ympäri Suomen pitävät avoimia ovia ja teemapäivässä mukana olevat ravintolat tarjoavat luonnonlaidunlihaa. \nPerinnebiotoopit ovat perinteisen karjatalouden muovaamia runsaslajisia elinympäristöjä. Ne tarjoavat kodin muun muassa monille eri kasvi-\, perhos-\, ja kuoriaislajeille. Perinteisen laidunnuksen vähennyttyä näitä elinympäristöjä uhkaa umpeenkasvu. 60-luvulta nykypäivään tultaessa perinnebiotoopeista on hävinnyt jo yli 90 prosenttia. \nLuonnonlaitumilla laiduntavat eläimet huolehtivat jäljellä olevista perinnebiotoopeista. Ne turvaavat monien lajien elinmahdollisuudet ja ylläpitävät tärkeitä perinnemaisemia. \nTapahtumia ympäri Suomen\nLuonnonlaidunpäivänä tilat ympäri Suomen pitävät avoimet ovet -tapahtumia. Kartalta näet kaikki tilat\, joilla voi vierailla luonnonlaidunpäivänä. Eri tilat järjestävät erilaista ohjelmaa – karjan laitumelle laskusta asiantuntijaluentoihin. Usealta tilalta voi samalla ostaa myös juhannusgrillattavat. Luonnonlaidunpäivä on mainio tapa nähdä maatilan elämää\, oppia luonnonlaitumista ja luonnon monimuotoisuudesta. Tapahtumat sopivat koko perheelle. \nTuottaja: puuttuuko tilasi vielä kartalta ja pidätkö avoimet ovet?  Ilmoita tilasi mukaan luonnonlaidunpäivään 15.6.23 mennessä tämän linkin kautta. \nLue lisää > \nLuonnonlaidunpäivän järjestävät yhteistyössä Luonnonlaidunlihan tuottajat ry\, Luonnon- ja riistanhoitosäätiö\, WWF\, Metsähallitus\, Maa- ja kotitalousnaiset\, ProAgria ja Ruokavirasto.
URL:https://lammasyhdistys.fi/event/luonnonlaidunpaiva-17-6-2023/
END:VEVENT
BEGIN:VEVENT
DTSTART;TZID=Europe/Helsinki:20230617T100000
DTEND;TZID=Europe/Helsinki:20230617T140000
DTSTAMP:20260424T021553
CREATED:20230609T141715Z
LAST-MODIFIED:20230609T141715Z
UID:21265-1686996000-1687010400@lammasyhdistys.fi
SUMMARY:Lammasketjukoulutus: Lammaslaitumet-työpaja 17.6.2023\, Ii
DESCRIPTION:Tervetuloa mukaan Lammasketju -hankkeen Lammaslaitumet -työpajapäivään Iihin.\nTyöpaja alkaa luento-osuudella\, jossa perehdytään hyvän laitumen ominaisuuksiin ja mietitään\, mitkä eläinryhmät millekin laitumella parhaiten sopivat.\nLuento-osuuden jälkeen päästään tutustumaan erilaisiin laidunkohteisiin ja kuullaan myös lampurin kokemuksia asiaan liittyen. \nOhjelma: \nKlo 10  Lammasnurmet ja laitumet \n\nMinkälainen on hyvä laidun lampaille?\nMinkälaiset eläinryhmät sopivat kohteeseen?\n\nKlo 11 Tutustuminen uuteen laidunkohteeseen\, lampurin kokemuksia\nKlo 12 Luonnonlaidunpäivä\, Hiastinhaaran luonnonlaidun\nKlo 14 Työpaja päättyy \nTyöpaja on maksuton ja avoin kaikille lampureille ja lammastuotannon aloittamisesta kiinnostuneille. \nIlmoittaudu mukaan sunnuntaihin 11.6.2023 klo 23.59 mennessä webropol -lomakkeen kautta täällä >.\nLisätietoja: Meri Pesonen\, meri.pesonen@proagria.fi
URL:https://lammasyhdistys.fi/event/lammasketjukoulutus-lammaslaitumet-tyopaja-17-6-2023-ii/
END:VEVENT
END:VCALENDAR