BEGIN:VCALENDAR
VERSION:2.0
PRODID:-//Suomen Lammasyhdistys - ECPv6.15.13.1//NONSGML v1.0//EN
CALSCALE:GREGORIAN
METHOD:PUBLISH
X-ORIGINAL-URL:https://lammasyhdistys.fi
X-WR-CALDESC:Tapahtumat Suomen Lammasyhdistys
REFRESH-INTERVAL;VALUE=DURATION:PT1H
X-Robots-Tag:noindex
X-PUBLISHED-TTL:PT1H
BEGIN:VTIMEZONE
TZID:Europe/Helsinki
BEGIN:DAYLIGHT
TZOFFSETFROM:+0200
TZOFFSETTO:+0300
TZNAME:EEST
DTSTART:20220327T010000
END:DAYLIGHT
BEGIN:STANDARD
TZOFFSETFROM:+0300
TZOFFSETTO:+0200
TZNAME:EET
DTSTART:20221030T010000
END:STANDARD
BEGIN:DAYLIGHT
TZOFFSETFROM:+0200
TZOFFSETTO:+0300
TZNAME:EEST
DTSTART:20230326T010000
END:DAYLIGHT
BEGIN:STANDARD
TZOFFSETFROM:+0300
TZOFFSETTO:+0200
TZNAME:EET
DTSTART:20231029T010000
END:STANDARD
BEGIN:DAYLIGHT
TZOFFSETFROM:+0200
TZOFFSETTO:+0300
TZNAME:EEST
DTSTART:20240331T010000
END:DAYLIGHT
BEGIN:STANDARD
TZOFFSETFROM:+0300
TZOFFSETTO:+0200
TZNAME:EET
DTSTART:20241027T010000
END:STANDARD
END:VTIMEZONE
BEGIN:VEVENT
DTSTART;TZID=Europe/Helsinki:20230819T000000
DTEND;TZID=Europe/Helsinki:20230819T000000
DTSTAMP:20260423T225222
CREATED:20230612T193802Z
LAST-MODIFIED:20230612T194237Z
UID:21273-1692403200-1692403200@lammasyhdistys.fi
SUMMARY:Kerinnän SM-kilpailut 19.8.2023 Kannus
DESCRIPTION:Kerinnän SM-kilpailut 2023\nsekä Jokkis-sarja järjestetään lauantaina 19.8.2023 Kannuksessa\nOllikkala-messujen yhteydessä. \nIlmoittautuminen kilpailuihin sähköpostitse suomen.keritsijat@gmail.com \nTervetuloa mukaan! \nKilpakerinnässä ei tyylipisteitä jaeta\, vaan kilpailu käydään virhepisteillä. Vähiten virhepisteitä saanut voittaa. Näissä kisoissa kaikki saavat siis ainakin muutaman pisteen. \nKerintäkilpailuissa on kaksi sarjaa: \nSUOMEN MESTARUUS -SARJA\nKilpailu käydään kansainvälisillä kilpakerintäsäännöillä. \nJOKKIS-SARJA\nKilpailussa kerintäasento ja -tyyli ovat vapaat eikä ajasta saa virhepisteitä. \nJokkis-sarjan arvosteltavat osa-alueet:\nKaksoisleikkaukset\nKerinnän aikana arvostellaan kaksoisleikkaukset eli tilanteet joissa villakuitua ei leikata tyvestä asti ensimmäisellä vedolla. Pisteet annetaan tuplaleikkauksen pinta-alan mukaan ja pinta-alaltaan luottokortin kokoisesta kaksoisleikkauksesta annetaan 5 virhepistettä. \nKeritsemättä jäänyt villa\nKerinnän jälkeen arvostellaan lampaaseen jäänyt villa. Tavoitteena on keritä lammas aivan ihoa myöten\, joten muissa tapauksissa virhepisteitä jaetaan leikkaamatta jääneen villan pituuden ja pinta-alan mukaan. Tässäkin luottokortin kokoisesta alasta annetaan 5 virhepistettä. \nHaavat\nJos lampaan ihoon on tullut haava kerinnän aikana\, annetaan siitä virhepisteitä kansainvälisiä kerintäsääntöjä mukaillen. \nAika\nKilpailijalla on 20 minuuttia aikaa keritä valintansa mukaan joko yksi tai kaksi lammasta. \nKerintätekniikka\nKeritsijä voi istuttaa lampaan tai keritä se seisaaltaan. Järjestäjä tuo kilpailuihin kerintäpukin\, jota voi halutessaan käyttää. \nArvostelu\nJokkis-luokassa kerityistä lampaista otetaan huomioon vain paremman lampaan pisteet. \nLue lisää >
URL:https://lammasyhdistys.fi/event/kerinnan-sm-kilpailut-19-8-2023-kannus/
END:VEVENT
END:VCALENDAR