BEGIN:VCALENDAR
VERSION:2.0
PRODID:-//Suomen Lammasyhdistys - ECPv6.15.13.1//NONSGML v1.0//EN
CALSCALE:GREGORIAN
METHOD:PUBLISH
X-WR-CALNAME:Suomen Lammasyhdistys
X-ORIGINAL-URL:https://lammasyhdistys.fi
X-WR-CALDESC:Tapahtumat Suomen Lammasyhdistys
REFRESH-INTERVAL;VALUE=DURATION:PT1H
X-Robots-Tag:noindex
X-PUBLISHED-TTL:PT1H
BEGIN:VTIMEZONE
TZID:Europe/Helsinki
BEGIN:DAYLIGHT
TZOFFSETFROM:+0200
TZOFFSETTO:+0300
TZNAME:EEST
DTSTART:20220327T010000
END:DAYLIGHT
BEGIN:STANDARD
TZOFFSETFROM:+0300
TZOFFSETTO:+0200
TZNAME:EET
DTSTART:20221030T010000
END:STANDARD
BEGIN:DAYLIGHT
TZOFFSETFROM:+0200
TZOFFSETTO:+0300
TZNAME:EEST
DTSTART:20230326T010000
END:DAYLIGHT
BEGIN:STANDARD
TZOFFSETFROM:+0300
TZOFFSETTO:+0200
TZNAME:EET
DTSTART:20231029T010000
END:STANDARD
BEGIN:DAYLIGHT
TZOFFSETFROM:+0200
TZOFFSETTO:+0300
TZNAME:EEST
DTSTART:20240331T010000
END:DAYLIGHT
BEGIN:STANDARD
TZOFFSETFROM:+0300
TZOFFSETTO:+0200
TZNAME:EET
DTSTART:20241027T010000
END:STANDARD
END:VTIMEZONE
BEGIN:VEVENT
DTSTART;TZID=Europe/Helsinki:20230901T190000
DTEND;TZID=Europe/Helsinki:20230901T190000
DTSTAMP:20260423T210656
CREATED:20230822T104758Z
LAST-MODIFIED:20230831T093439Z
UID:21505-1693594800-1693594800@lammasyhdistys.fi
SUMMARY:Petotulet 1.9.2023 klo 19 eri puolilla Suomea
DESCRIPTION:Suomen Lammasyhdistys lähtee taas mukaan eurooppalaisten lampaankasvattajien lanseeraamaan PETOTULI-kampanjaan. \nPETOTULI-tapahtuma järjestetään lampureiden toimesta kaikkialla samaan aikaan\, perjantaina 1.9.2023 kello 19.\nMielenilmauksen merkkinä lampurit sytyttävät laitumelle nuotiotulet ja vartioivat samaan aikaan eläimiään. Omille nuotioilleen lampurit voivat kutsua alueen mediaa ja päättäjiä tiedon jakamiseksi. \nSuomessa laidunnetaan lampailla etenkin jokirantoja ja perinnebiotooppeja. Jokirantojen laidunnus on yhteydessä suoraan Itämeren ravinnevalumien vähenemiseen\, kun jokirantoja ei tarvitse pitää viljeltyinä ja lannoittaa. Perinnebiotoopit taas ovat usein Suomen uhanalaisimpia luontotyyppejä\, ketoja ja hakamaita\, joita laidunnuksen käytyä mahdottomaksi uhkaa umpeen kasvaminen ja monien uhanalaisten ja vaarantuneiden hyönteis- ja kasvilajien häviäminen. Laidunnus lisää tutkitusti kotieläinten hyvinvointia\, mutta sen pitää olla niille turvallista. \nSuurpetoaidat eivät riitä pitämään petoeläimiä pois laiduntavien eläinten luota\, vaan ne ovat oppineet kaivautumaan aitojen ali tai hyödyntämään ojien matalaa vettä päästäkseen laitumille. Rantaan rajoittuviin kohteisiin ei usein voida tehdä sähköistä petoaitaa veden luonnollisten nousujen ja laskujen vuoksi. Perinnebiotoopeille riittävän sähköisen petoaidan rakentaminen on vaikeaa\, jos alueella ei ole sähköverkkoa. \nOsassa maata sudet ovat tunkeutuneet sisälle eläinsuojiin ja saalistaneet sisätiloissa. Tilanne on kestämätön. PETOTULI-kampanjalla haluamme kohdistaa huomion tilanteen vaikeuteen. Petoeläimet kuuluvat Suomen luontoon\, mutta niiden suojelun tulee olla kestävää myös kotieläintuotannon kannalta. Luonnon monimuotoisuus ei saa kärsiä petoeläinten aiheuttaman suuren paineen vuoksi ja kotieläintuottajille tulee taata mahdollisuus karjansa suojeluun. \nTapahtuma Facebookissa > \nTapahtumaan osallistuvat (listaa päivitetään 1.9. asti):\nMikkolan tila\nVanha Turuntie 738\, Hajala\, Salo\nPetotulet laitumien läheisyydessä klo 19-21 (opastus pihasta eteenpäin)\nKyselyt: Peppi Laine 040 900 2957 \nLounais-Hämeessä Jokioisilla järjestetään myös Petotulet perjantaina 1.9. klo 18:30 alkaen. Tulet syttyvät klo 19. Paikkana on Miilunkorventien ja Peltotien risteys\, VT 2\, varalaskupaikan Humppilan pääty.\nLisätietoja Kristiina Liinaharja\, puh. 040 590 7826. \nSirolan lammastila\nPetotulet syttyvät klo 18.30–19\nSininen tie 553\, Tohmajärvi \nSuur-Savon lampurit\nPetotulet palavat 1.9.2023 kello 19.00 alkaen Partalansaaren Rönölässä Sulkavalla osoitteessa Kietäväläntie 1122.\nTulijoille tarjotaan pullakahvit. Myynnissä Pitkäpohjan tilan tuotteita\, kuten lankoja ja kananmunia. \nSeppälän lammastila\nPeltotie 30\, 49700 Miehikkälä\nTapahtuma avoinna klo 18.30-20.30\, tulet syttyvät klo 19\nKlo 18.45 puhe tilan omasta petovahingosta ja sen seuraamuksista sekä huolenilmaus tämän hetken petopolitiikasta ja uhkasta lammastaloudelle. MTK-Kaakko tarjoaa 100 ensimmäiselle lammasmakkaraa\, jota voi paistaa nuotiolla sään salliessa\, tai nauttia grillissä paistettuna. Myynnissä kahvia ja levionnaisia. \nLammastila Ainonpolku\nNurmes\, Savikylä\nPetotulet 1.9.2023 klo 19.00\nLaidun Savikyläntien ja Kuopiontien välissä uimarannan kohdalla. Nähtävillä suurpetoaidat\, laidunkamera ja valokarkottimia. Mukana myös MTK-Pielinen.\nTarkemmat kyselyt sähköpostitse: ainonpolku ( a ) gmail.com \nKeski-Pohjanmaan Lammaskerhon tulet\n1.9.2023 klo 19.00\nVattajan lintutornin lammaslaidun\, Ohtakarintie 918\, Lohtaja Tarjolla kahvia ja makkaraa! \nSatakunnan lammaskerhon tulet\n1.9.2023 kello 19.00\nLevolan pihassa\, Lattomerentie 388\, Pori \nKurikan lammastilan tulet\n1.9.2023 klo 19\nKurikantietä 500 m\, opasteet löytyvät Niittymaantieltä perille asti\, 92330 Karinranta\nTapahtumassa mukana MTK:n edustaja ja laumanvartijakoirien omistaja koirineen. Tarjolla ilmaiseksi makkaraa\, lättyjä\, kahvia ja mehua. \n 
URL:https://lammasyhdistys.fi/event/petotulet1-9-2023-klo-19-eri-puolilla-suomea/
END:VEVENT
BEGIN:VEVENT
DTSTART;TZID=Europe/Helsinki:20230921T100000
DTEND;TZID=Europe/Helsinki:20230921T153000
DTSTAMP:20260423T210656
CREATED:20230905T062208Z
LAST-MODIFIED:20230905T062208Z
UID:21608-1695290400-1695310200@lammasyhdistys.fi
SUMMARY:Lammasketju-koulutus: Lampaiden elinolosuhteet 21.9.2023
DESCRIPTION:Tervetuloa mukaan Lammasketju -hankkeen Lampaiden elinolosuhteet -koulutuspäivään 21.9.2023. Tässä hybridikoulutuksessa perehdytään siihen\, mitkä olosuhdetekijät vaikuttavat lampaiden kasvuun ja hyvinvointiin. Lisäksi saamme vinkkejä petovahinkojen torjuntaan ja kuulemme tosielämän esimerkkejä petovahinkojen torjunnasta ja laumanvartijakoirien hyödyntämisestä lammastilalla. \nOhjelma\n10.00-11.00 Elinolosuhteiden vaikutus lampaiden kasvuun ja hyvinvointiin/ Milla Alanco-Ollqvist\, ProAgria Etelä-Pohjanmaa \n11.00-12.00 Omakustanteinen lounas Poken opiskelijaravintola Tähkä \n12.00-13.30 Loisten vaikutus lampaiden kasvuun\, ongelmien ennaltaehkäisy ja lääkitysvaihtoehdot/ Johanna Rautiainen\, Lammasmaailma \n13.30-14.30 Petovahinkojen torjuntakeinot/ Teemu Lamberg\, Suomen Riistakeskus \n14.30-14.40 Kahvitauko \n14.40-15.20 Kokemuksia käytännöstä: petovahinkojen torjunta ja laumanvartijakoirien hyödyntäminen lammastilalla/ Kati Pennanen \n15.20-15.30 Lammasketju -hankkeen tulevat tapahtumat/ Marianne Reinikka\, Jamk \nTilaisuus järjestetään Jamkin Biotalousinstituutissa Saarijärven Tarvaalassa\, mutta sitä voi seurata myös etäyhteyden välityksellä. Tilaisuuden kustannus 35 € laskutetaan jälkikäteen. Tilaisuudesta ei tehdä tallennetta. \nIlmoittaudu mukaan sunnuntaihin 10.9.2023 klo 23.59 mennessä täällä >
URL:https://lammasyhdistys.fi/event/lammasketju-koulutus-lampaiden-elinolosuhteet-21-9-2023/
END:VEVENT
BEGIN:VEVENT
DTSTART;TZID=Europe/Helsinki:20230924T110000
DTEND;TZID=Europe/Helsinki:20230924T160000
DTSTAMP:20260423T210656
CREATED:20230920T061600Z
LAST-MODIFIED:20230920T061600Z
UID:21675-1695553200-1695571200@lammasyhdistys.fi
SUMMARY:Villapäivä Kansalaistorilla Helsingissä 24.9.2023 klo 11-16
DESCRIPTION:Suomen Lammasyhdistys ry ja Uudenmaan Lampurit ry järjestävät villatapahtuman Kansalaistorilla Helsingissä sunnuntaina 24.9. klo 11–16. Luvassa on suomalaisen villan tarina aina lampaista ja kerinnästä valmiisiin käsitöihin ja tuotteisiin.\nKeskusteluosuudesta löydät tapahtumaan osallistujien esittelyt\, joita päivitetään lauantai-iltaan saakka. Listaa päivitetään sitä mukaa kuin ilmoittaumisia saadaan.\nLämpimästi tervetuloa Kansalaistorille! \nVillapäivään osallistuvat:\nKomkom ky\n– Villakäsityöt\, yksilölliset käsintehdyt huovutustuotteet.\nKoivukorven tila\n– Luonnonväreillä värjätyt ja luonnollisen väriset villalangat.\nSeppälän Lammastila\n– Villalangat\, villakäsityöt\, lampaantaljat.\nVillavuori lankastudio\n– Käsin värjätyt artesaanivillalangat.\nVilla Bergdal\n– Villalangat\, villakäsityöt\, villamatot.\nLeena Kamila\n– Villalangat\, villatuotteet.\nIdän Kehräämö\n– Oman tuotannon villalangat\, käsin värjätyt villalangat.\nVärjärien kilta\n– Villalangan värjäysnäytöksiä\, käsinkehruuta.\nSuomen Lammasyhdistys\nIdlax Gård\n– Lampaat.\nSuomen Keritsijät ry\n– Kerintänäytös\nVuonue\n– Tuotteita suomalaisesta villasta\nUrpolan tila\n– Villalangat ja villakäsityöt\nKaniina Crafts\n– Villakäsityöt
URL:https://lammasyhdistys.fi/event/villapaiva-kansalaistorilla-helsingissa-24-9-2023-klo-11-16/
END:VEVENT
END:VCALENDAR