BEGIN:VCALENDAR
VERSION:2.0
PRODID:-//Suomen Lammasyhdistys - ECPv6.15.13.1//NONSGML v1.0//EN
CALSCALE:GREGORIAN
METHOD:PUBLISH
X-WR-CALNAME:Suomen Lammasyhdistys
X-ORIGINAL-URL:https://lammasyhdistys.fi
X-WR-CALDESC:Tapahtumat Suomen Lammasyhdistys
REFRESH-INTERVAL;VALUE=DURATION:PT1H
X-Robots-Tag:noindex
X-PUBLISHED-TTL:PT1H
BEGIN:VTIMEZONE
TZID:Europe/Helsinki
BEGIN:DAYLIGHT
TZOFFSETFROM:+0200
TZOFFSETTO:+0300
TZNAME:EEST
DTSTART:20220327T010000
END:DAYLIGHT
BEGIN:STANDARD
TZOFFSETFROM:+0300
TZOFFSETTO:+0200
TZNAME:EET
DTSTART:20221030T010000
END:STANDARD
BEGIN:DAYLIGHT
TZOFFSETFROM:+0200
TZOFFSETTO:+0300
TZNAME:EEST
DTSTART:20230326T010000
END:DAYLIGHT
BEGIN:STANDARD
TZOFFSETFROM:+0300
TZOFFSETTO:+0200
TZNAME:EET
DTSTART:20231029T010000
END:STANDARD
BEGIN:DAYLIGHT
TZOFFSETFROM:+0200
TZOFFSETTO:+0300
TZNAME:EEST
DTSTART:20240331T010000
END:DAYLIGHT
BEGIN:STANDARD
TZOFFSETFROM:+0300
TZOFFSETTO:+0200
TZNAME:EET
DTSTART:20241027T010000
END:STANDARD
END:VTIMEZONE
BEGIN:VEVENT
DTSTART;TZID=Europe/Helsinki:20231010T100000
DTEND;TZID=Europe/Helsinki:20231010T150000
DTSTAMP:20260423T193556
CREATED:20231004T144006Z
LAST-MODIFIED:20231004T144006Z
UID:21732-1696932000-1696950000@lammasyhdistys.fi
SUMMARY:Vastuullinen ja ympäristötietoinen lammastuotanto -etäkoulutus 10.10. klo10-15
DESCRIPTION:Vielä ehtii ilmoittautua Vastuullinen ja ympäristötietoinen lammastuotanto -koulutukseen 5.10. mennessä!\nTässä etäkoulutuksessa perehdytään siihen\, mistä vastuullinen lammastalous koostuu ja kuinka vastuullisuutta voidaan mitata. \nOhjelma ja ilmoittautuminen alla olevasta linkistä:\nhttps://www.aitomaaseutu.fi/tapahtuma/lammasketju-koulutus-vastuullinen-ja-ymparistotietoinen-lammastuotanto?fbclid=IwAR0G2tfuJOj2YKtAbSGwdW-d8dC6ndP7ajWQ0LnISdfo-Kycc99bwhOqGFQ
URL:https://lammasyhdistys.fi/event/vastuullinen-ja-ymparistotietoinen-lammastuotanto-etakoulutus-10-10-klo10-15/
END:VEVENT
BEGIN:VEVENT
DTSTART;TZID=Europe/Helsinki:20231012T000000
DTEND;TZID=Europe/Helsinki:20231014T000000
DTSTAMP:20260423T193556
CREATED:20230818T092327Z
LAST-MODIFIED:20230818T092327Z
UID:21480-1697068800-1697241600@lammasyhdistys.fi
SUMMARY:KoneAgria 12.-14.10.2023 Tampereella
DESCRIPTION:KoneAgria-messut 12.-14.10.2023 Tampelreella. Maa- ja metsätalousalan ammattilaisten vuoden merkittävin kohtaamispaikka\, joka tarjoaa kolmen päivän ajan ainutlaatuisen paikan kaupankäynnille\, verkostoitumiselle\, ja uuden oppimiselle. \nTapahtuman kotisivuille >
URL:https://lammasyhdistys.fi/event/koneagria-12-14-10-2023-tampereella/
END:VEVENT
BEGIN:VEVENT
DTSTART;TZID=Europe/Helsinki:20231019T120000
DTEND;TZID=Europe/Helsinki:20231019T120000
DTSTAMP:20260423T193556
CREATED:20231004T141942Z
LAST-MODIFIED:20231004T141942Z
UID:21724-1697716800-1697716800@lammasyhdistys.fi
SUMMARY:Vertaisryhmä susivahingon kokeneille lampureille 19.10. klo 12 (etäyhteydellä)
DESCRIPTION:Onko lammastilaasi kohdannut susivahinko? Oletko pystynyt käsittelemään kriisiä ja saanut siihen tukea? \nMelan Välitä viljelijästä -projekti järjestää maksuttoman vertaisryhmän susivahinkoja kohdanneille lampureille. Ryhmä starttaa torstaina 19.10. kello 12. Tapaamiset pidetään etäyhteydellä\, joten osallistuminen on mahdollista ympäri Suomen. \nVertaisryhmätapaamisissa: \n\nOpit kriisin eri vaiheista ja saat tietoa tarjolla olevasta avusta\nLöydät hyödyllisiä selviytymiskeinoja ja tapoja hallita stressiä\nTunnistat kriisin herättämiä tunteita ja saat tukea niiden käsittelyyn\n\nVertaisryhmän vetäjinä toimivat Välitä viljelijästä -projektin työntekijät. Lue lisää ja ilmoittaudu 15.10. mennessä Melan tapahtumakalenterissa: https://www.mela.fi/…/etavertaisryhma-susivahinkoja…/ \nTervetuloa!
URL:https://lammasyhdistys.fi/event/vertaisryhma-susivahingon-kokeneille-lampureille-19-10-klo-12-etayhteydella/
END:VEVENT
END:VCALENDAR