BEGIN:VCALENDAR
VERSION:2.0
PRODID:-//Suomen Lammasyhdistys - ECPv6.15.13.1//NONSGML v1.0//EN
CALSCALE:GREGORIAN
METHOD:PUBLISH
X-ORIGINAL-URL:https://lammasyhdistys.fi
X-WR-CALDESC:Tapahtumat Suomen Lammasyhdistys
REFRESH-INTERVAL;VALUE=DURATION:PT1H
X-Robots-Tag:noindex
X-PUBLISHED-TTL:PT1H
BEGIN:VTIMEZONE
TZID:Europe/Helsinki
BEGIN:DAYLIGHT
TZOFFSETFROM:+0200
TZOFFSETTO:+0300
TZNAME:EEST
DTSTART:20230326T010000
END:DAYLIGHT
BEGIN:STANDARD
TZOFFSETFROM:+0300
TZOFFSETTO:+0200
TZNAME:EET
DTSTART:20231029T010000
END:STANDARD
BEGIN:DAYLIGHT
TZOFFSETFROM:+0200
TZOFFSETTO:+0300
TZNAME:EEST
DTSTART:20240331T010000
END:DAYLIGHT
BEGIN:STANDARD
TZOFFSETFROM:+0300
TZOFFSETTO:+0200
TZNAME:EET
DTSTART:20241027T010000
END:STANDARD
BEGIN:DAYLIGHT
TZOFFSETFROM:+0200
TZOFFSETTO:+0300
TZNAME:EEST
DTSTART:20250330T010000
END:DAYLIGHT
BEGIN:STANDARD
TZOFFSETFROM:+0300
TZOFFSETTO:+0200
TZNAME:EET
DTSTART:20251026T010000
END:STANDARD
END:VTIMEZONE
BEGIN:VEVENT
DTSTART;TZID=Europe/Helsinki:20240601T080000
DTEND;TZID=Europe/Helsinki:20240930T170000
DTSTAMP:20260423T005703
CREATED:20240510T085502Z
LAST-MODIFIED:20240510T085535Z
UID:24308-1717228800-1727715600@lammasyhdistys.fi
SUMMARY:Nuori neuloo -suunnittelukilpailu 1.6.-30.9.2024
DESCRIPTION:Nuori Neuloo 2024 -suunnittelukilpailu on tarkoitettu 13-24 vuotiaille neulomisesta kiinnostuneille nuorille \n\n\n\nKilpailukategorioita on kaksi:\n13-18 vuotiaat sekä 19-24 vuotiaat\n\n\nPääpalkintona molempien kategorioitten voittajalle on pitkä viikonloppu Isokummun Luomu Oy:n omistamassa luxusmökissä Kalajoella (arvo 400€). Kilpailun edetessä osallistujilla on mahdollisuus saada myös yllätyspalkintoja.\n\n\nOHJEET ja LISÄTIETOJA OSALLISTUJILLE:\n•Kilpailuun ei tarvitse erikseen ilmoittautua\n•Käsityön on oltava osallistujan itsesuunnittelema ja toteuttama\n•Käsityö ei saa olla kopio toisen neulojan työstä (siitä jää aina kiinni)\n\n•Mikäli olet alle 18 vuotias\, kerro osallistumisesta huoltajillesi \n\n•Kun käsityö on valmis\, lähetä joko kilpailun Facebookin tai Instagramin messengeriin:\nmahdollisimman tarkka kuva/kuvia kilpailutyöstäsi (valmistaudu lisäkuvien pyyntöön)\nerittäin yksityiskohtainen valmistusohje (valmistaudu lisäkysymyksiin)\ntarina työn taustalta\nsyy osallistumiseen\ntunnelmia ja kokemuksia neulomiseen liittyen\n\nikäsi ja yhteystietosi \n\n•Kuvat lähetettyäsi\, annat niiden käyttöoikeuden järjestävälle taholle\n•Kuvia tullaan käyttämään ainoastaan kilpailun somesivustoilla ilman\, että koko nimeäsi mainitaan\n•Julkaise kesä-syyskuun aikana Instagramissa kuvia työn edistymisestä\, sillä kuvien ja niiden yhteydessä olevien tarinoiden pohjalta osallistujilla on mahdollisuus saada välipalkintoja yhteistyökumppaneiltamme\n•Tägää Instagram-julkaisuihin @nuori_neuloo24 ja käytä #nuorineuloo2024 -hästägiä\, jotta näemme päivitykset reaaliajassa\n\n•Mikäli osallistujien joukosta löytyy 20 erityisen kiinnostavaa ja uniikkia käsityötä\, yritämme hankkia kustantajan julkaisemaan niistä Nuori Neuloo -neulekirjan \n\n\n\nOHJEET JA LISÄTIETOJA\nYHTEISTYÖKUMPPANEILLE:\n•Mikäli olet kiinnostunut yhteistyöstä joko välipalkintojen lahjoittajana tai antamalla alennuksia yrityksesi tuotevalikoimasta\, ota yhteyttä viestillä\, niin sovitaan yksityiskohdista\n•Mikäli olet kiinnostunut tämän tärkeän kilpailun mainostamisesta somekanavillasi\, ota yhteyttä viestitse saadaksesi kilpailun logon\n\n\nJärjestäjä: Isokummun kehräämö\nIsokummun Kehräämö\nPromoottori: Marjut Ruusuvaara\n\n\nOnnea kisaan ja tervetuloa mukaan!
URL:https://lammasyhdistys.fi/event/nuori-neuloo-suunnittelukilpailu-1-6-30-9-2024/
END:VEVENT
BEGIN:VEVENT
DTSTART;TZID=Europe/Helsinki:20240907T000000
DTEND;TZID=Europe/Helsinki:20240908T000000
DTSTAMP:20260423T005703
CREATED:20240506T094724Z
LAST-MODIFIED:20240510T082421Z
UID:24251-1725667200-1725753600@lammasyhdistys.fi
SUMMARY:Lähiruokapäivä 7.-8.9.2024
DESCRIPTION:Mistä suomalainen ruoka tulee? Millaisia tuotteita sinun kotiseudullasi tuotetaan? Mitä muuta mielenkiintoista maaseudulta löytyy? \n\n\nMuun muassa näihin kysymyksiin voit saada vastauksen valtakunnallisen Lähiruokapäivän tapahtumissa. Vuonna 2024 Lähiruokapäivää juhlitaan kaksi päivää. Tapahtumajärjestäjät pitävät ovensa auki vieraille lauantaina 7.9. sekä halutessaan myös sunnuntaina 8.9. Lauantai toimii Lähiruokapäivä-viikonlopun päätapahtumapäivänä\, jolloin kaikki Lähiruokapäivän tapahtumajärjestäjät toivottavat vierailijat tervetulleiksi. \nLähiruokapäivänä pääset tutustumaan paikallisiin tuottajiin ja yrityksiin\, ostamaan tuoreita raaka-aineita ja tuotteita suoraan tekijöiltä itseltään sekä tietenkin nauttimaan herkullisesta lähiruoasta. Monissa kohteissa on myös mahdollisuus päästä tutustumaan eläimiin\, koneisiin ja pihapiirin. \nKyseessä on siis oikea maaseudun avointen ovien tapahtuma. Tervetuloa vierailulle Lähiruokapäivänä! \nLue lisää ja ilmoiuttaudu järjestäjäksi täällä >
URL:https://lammasyhdistys.fi/event/lahiruoka-paiva-7-8-9-2024/
END:VEVENT
BEGIN:VEVENT
DTSTART;TZID=Europe/Helsinki:20240909T000000
DTEND;TZID=Europe/Helsinki:20240922T000000
DTSTAMP:20260423T005703
CREATED:20240904T064419Z
LAST-MODIFIED:20240904T065131Z
UID:25251-1725840000-1726963200@lammasyhdistys.fi
SUMMARY:Osta pässi -viikot
DESCRIPTION:Osta pässi -viikot pidetään 9.-22.9.2024.\nIlmoita myytävät pässit lammasnetti.fi-sivustolla itse tai pyydä apua lammasasiantuntijaltasi pässien valintaan ja ilmoituksen tekemiseen.\n\nLue lisää: www.lammasnetti.fi 9.-22.9.2024
URL:https://lammasyhdistys.fi/event/osta-passi-viikot/
ATTACH;FMTTYPE=image/jpeg:https://lammasyhdistys.fi/wp-content/uploads/2024/09/Osta_passi_2024_artikkeli.jpg
END:VEVENT
BEGIN:VEVENT
DTSTART;TZID=Europe/Helsinki:20240926T090000
DTEND;TZID=Europe/Helsinki:20240926T170000
DTSTAMP:20260423T005703
CREATED:20240429T123955Z
LAST-MODIFIED:20240429T123955Z
UID:24160-1727341200-1727370000@lammasyhdistys.fi
SUMMARY:Eläinkuljettajakoulutus; Kaupallisten eläinkuljetusten kuljettajien ja hoitajien koulutus ja koe 26.9.2024
DESCRIPTION:Koulutuksen kuvaus\nKaupallisissa eläinkuljetuksissa eläinten käsittely kuljetusten aikana ja kuljettaminen edellyttää kouluttautumista. Eläinten kuljettajille ja hoitajille asetettavat vaatimukset vaihtelevat kuljetettavan eläinlajin ja kuljetusmuodon mukaan. Kotieläiminä pidettäviä hevos-\, nauta-\, lammas-\, vuohi- ja sikaeläimiä tai siipikarjaa maantieajoneuvolla kuljetettaessa edellytetään kuljettajilta ja hoitajilta pätevyystodistusta. Muiden eläinlajien kuljettajilta ja hoitajilta edellytetään ainoastaan koulutukseen osallistumista. \nHinta\n160 € + alv 24 %. Pidätämme oikeuden muutoksiin\, mikäli Hämeen ammattikorkeakoulu Oy:n arvonlisäveromääräyksiä lain tai muun virallisen ohjeistuksen nojalla muutetaan. \nPaikka\nHAMK\, Hämeenlinnan korkeakoulukeskus \nKoulutuksen sisältö\n\nEläinten fysiologia ja etenkin juoma- ja ravintotarpeet\, eläinten käyttäytyminen ja stressin käsite\nEläinten käsittelyn käytännön näkökohtia\nAjokäyttäytymisen vaikutukset kuljetettavien eläinten hyvinvointiin ja lihan laatuun\nEläimille annettava ensiapu\nEläimiä käsittelevän henkilökunnan turvallisuusnäkökohdat\nEläinkuljetuksia koskevat eläinkuljetusasetuksen yleiset edellytykset\n\nKouluttajat\nMMM\, agr. Tiina Harrinkari \nLisätiedot\nKoulutuksessa käsitellään seuraavien eläinlajien kuljetukset:\n• nautaeläimet\n• pienmärehtijät (lammas\, vuohi)\n• siat\n• siipikarja\n• kavioeläimet (hevonen\, poni) \nKoekysymykset kattavat samat eläinlajit. \nHuom! Mikäli haluat tenttiä vain tietyn yhden eläinlajin\, niin ilmoita asiasta hyvissä ajoin ennen koulutuspäivää. \nKoulutuksen materiaalit ja koekysymykset ovat suomeksi\, englanniksi ja venäjäksi. \nMuu info\nKoulutus klo 9-15. Koe aloitetaan heti koulutuksen päättymisen jälkeen. \nLisätieto ja ilmoittautumiseen tästä >
URL:https://lammasyhdistys.fi/event/elainkuljettajakoulutus-kaupallisten-elainkuljetusten-kuljettajien-ja-hoitajien-koulutus-ja-koe-26-9-2024/
END:VEVENT
BEGIN:VEVENT
DTSTART;TZID=Europe/Helsinki:20240929T000000
DTEND;TZID=Europe/Helsinki:20241006T000000
DTSTAMP:20260423T005703
CREATED:20240917T130733Z
LAST-MODIFIED:20240917T131050Z
UID:25381-1727568000-1728172800@lammasyhdistys.fi
SUMMARY:Villaviikko 29.9.-6.10.2024 ja Villapäivä Narinkkatori\, Helsinki 29.9.2024
DESCRIPTION:  \nVillaviikon aikana 29.9.-6.10.2024 paikalliset toimijat järjestävät erilaisia villaisia tapahtumia eri puolilla Suomea.\nIlmoita Villaviikon tapahtumasi yhdistyksen nettivastaavalle eila.pennanen ( a ) lammasyhdistys.fi \nVillaviikon päätapahtuma Narinkkatorilla Helsingissä 29.9.2024. Villapäivän sivulle tästä >\nIlmoittautumiset ja tiedustelut Kansalaistorin Villapäivään\nsähköpostitse villaviikko@gmail.com tai puhelimitse 040 738 1371  / Mikko Idlax. \nVillaviikon tapahtumat\nPäivitetään ilmoittautumisjärjestyksessä.
URL:https://lammasyhdistys.fi/event/villaviikko-29-9-6-10-2024-ja-villapaiva-narinkkatori-helsinki-29-9-2024/
END:VEVENT
END:VCALENDAR