BEGIN:VCALENDAR
VERSION:2.0
PRODID:-//Suomen Lammasyhdistys - ECPv6.15.13.1//NONSGML v1.0//EN
CALSCALE:GREGORIAN
METHOD:PUBLISH
X-ORIGINAL-URL:https://lammasyhdistys.fi
X-WR-CALDESC:Tapahtumat Suomen Lammasyhdistys
REFRESH-INTERVAL;VALUE=DURATION:PT1H
X-Robots-Tag:noindex
X-PUBLISHED-TTL:PT1H
BEGIN:VTIMEZONE
TZID:Europe/Helsinki
BEGIN:DAYLIGHT
TZOFFSETFROM:+0200
TZOFFSETTO:+0300
TZNAME:EEST
DTSTART:20250330T010000
END:DAYLIGHT
BEGIN:STANDARD
TZOFFSETFROM:+0300
TZOFFSETTO:+0200
TZNAME:EET
DTSTART:20251026T010000
END:STANDARD
BEGIN:DAYLIGHT
TZOFFSETFROM:+0200
TZOFFSETTO:+0300
TZNAME:EEST
DTSTART:20260329T010000
END:DAYLIGHT
BEGIN:STANDARD
TZOFFSETFROM:+0300
TZOFFSETTO:+0200
TZNAME:EET
DTSTART:20261025T010000
END:STANDARD
BEGIN:DAYLIGHT
TZOFFSETFROM:+0200
TZOFFSETTO:+0300
TZNAME:EEST
DTSTART:20270328T010000
END:DAYLIGHT
BEGIN:STANDARD
TZOFFSETFROM:+0300
TZOFFSETTO:+0200
TZNAME:EET
DTSTART:20271031T010000
END:STANDARD
END:VTIMEZONE
BEGIN:VEVENT
DTSTART;TZID=Europe/Helsinki:20260116T120000
DTEND;TZID=Europe/Helsinki:20260116T130000
DTSTAMP:20260421T162658
CREATED:20260109T102046Z
LAST-MODIFIED:20260109T102046Z
UID:27787-1768564800-1768568400@lammasyhdistys.fi
SUMMARY:Nettikatras - päiväkahvit
DESCRIPTION:Koulutukset järjestetään joka toinen perjantai alkaen 16.1. Teamsissa.\nLinkit laitetaan NettiKatraan asiakkaille sähköpostiin. \n16.1. Teemana:\nKatsaus edellisvuoteen: tulosten seuranta raporteilta & Tapahtumat -välilehden kautta saatavat tiedot \nLisätietoja ja ilmoittautuminen >
URL:https://lammasyhdistys.fi/event/nettikatras-paivakahvit/
END:VEVENT
BEGIN:VEVENT
DTSTART;TZID=Europe/Helsinki:20260121T120000
DTEND;TZID=Europe/Helsinki:20260121T140000
DTSTAMP:20260421T162658
CREATED:20260109T101357Z
LAST-MODIFIED:20260109T101357Z
UID:27784-1768996800-1769004000@lammasyhdistys.fi
SUMMARY:Webinaari: Tuloja Tuottajalle - Tekemällä tulosta
DESCRIPTION:Tuloja Tuottajalle – Tekemällä Tulosta -webinaarissa ProAgrian lammastuotannon erityisasiantuntija Sari Heltelä kertoo vinkkejä miten saada lisähintaa lihalle ja kuinka oikea ruokinta on avain hyvälle tulokselle. Tilaisuus on erityisesti lammastiloille suunnattu mutta kuulolle ovat tervetulleita muutkin lihantuottajat. \nLisätietoja ja ilmoittautuminen >
URL:https://lammasyhdistys.fi/event/webinaari-tuloja-tuottajalle-tekemalla-tulosta/
END:VEVENT
BEGIN:VEVENT
DTSTART;TZID=Europe/Helsinki:20260127T120000
DTEND;TZID=Europe/Helsinki:20260127T140000
DTSTAMP:20260421T162658
CREATED:20260115T102155Z
LAST-MODIFIED:20260115T102155Z
UID:27797-1769515200-1769522400@lammasyhdistys.fi
SUMMARY:Maatilan yhteinen työturvallisuus - maksuton monimuotokoulutus maatilojen ammattilaisille
DESCRIPTION:Maatila yhteisenä työpaikkana -hanke järjestää koulutusta maatilojen työturvallisuudesta alkuvuonna 2026. Koulutus on suunnattu maatalousyrittäjille ja kaikille maatiloilla työskenteleville\, kuten tilojen omille työntekijöille\, lomittajille\, eläinlääkäreille ja seminologeille.\n \n\nKoulutus alkaa johdantowebinaarilla 27.1.2026. Koulutukseen kuuluu lähiopetusta samalla sisällöllä kolmella eri paikkakunnalla (Ilmajoki\, Kaarina\, Kitee)\, etäluentoja ja itsenäistä opiskelua verkossa. Kouluttajat ovat alan asiantuntijoita mm. Työtehoseurasta\, Työturvallisuuskeskuksesta\, Maatalousyrittäjien eläkelaitoksesta\, Helsingin yliopistosta sekä Lupa- ja valvontavirastosta. \n\n\nKoulutuksen tavoitteena on vahvistaa työturvallisuusosaamista\, edistää eri ammattiryhmien yhteistyötä ja levittää hyviä työturvallisuuskäytäntöjä maatiloille. Koulutuksen pääpaino on kotieläintilojen työturvallisuudessa. \n\nKoulutus on osallistujille maksuton\, lähipäivien ruokailut ovat omakustanteisia. \n\n\nLisätietoja ja ilmoittautuminen > \n  \n\n\n 
URL:https://lammasyhdistys.fi/event/maatilan-yhteinen-tyoturvallisuus-maksuton-monimuotokoulutus-maatilojen-ammattilaisille/
END:VEVENT
BEGIN:VEVENT
DTSTART;TZID=Europe/Helsinki:20260130T120000
DTEND;TZID=Europe/Helsinki:20260130T153000
DTSTAMP:20260421T162658
CREATED:20260129T113628Z
LAST-MODIFIED:20260129T113628Z
UID:27878-1769774400-1769787000@lammasyhdistys.fi
SUMMARY:Webinaari lampaiden kantakirjauksesta ja jalostuksesta
DESCRIPTION:Menestyvä lammastila- hanke järjestää webinaarin 30.1.klo 12. Webinaarissa keskustellaan lampaiden jalostustavoitteista ja datan hyödyntämisestä. Kantakirjaohjelman NettiKatras hyödyt eläinvalinnassa ja raporteista tehdään lyhyt katsaus. Keskustellaan myös jalostussuunnitelman tärkeydestä lampaiden jalostuksessa ja APR tuen tukiehdoista. \nLisätietoa ja ilmoittautuminen >
URL:https://lammasyhdistys.fi/event/webinaari-lampaiden-kantakirjauksesta-ja-jalostuksesta/
END:VEVENT
END:VCALENDAR